BEGIN:VCALENDAR
VERSION:2.0
PRODID:-//ChamberMaster//Event Calendar 2.0//EN
METHOD:PUBLISH
X-PUBLISHED-TTL:P3D
REFRESH-INTERVAL:P3D
CALSCALE:GREGORIAN
BEGIN:VEVENT
DTSTART:20201014T230000Z
DTEND:20201015T010000Z
X-MICROSOFT-CDO-ALLDAYEVENT:FALSE
SUMMARY:La Jolla Playhouse Digital Innovation Night - Virtual
DESCRIPTION:NOW ALL VIRTUAL! San Diego's premier annual networking event will\n\n									bring together leaders from San Diego's community of\n\n									science and technology innovators for an extraordinary evening.\n\n									 \n									\n									This Innovation Night\, we will celebrate and discuss the efforts of San Diego companies and organizations working on the front lines of the fight against COVID-19 and how their innovations will bring us back together again.\n\n									\n\n									All tickets benefit La Jolla Playhouse's "R&D" activities such as\n\n									Digital WOW programming and Education & Outreach efforts\n\n									to support teachers with theatre curriculum during remote learning.\n\n									 \n									\n									\n									\n									\n									\n									\n								\n							\n						\n						\n					\n				\n			\n			\n		\n		\n			\n			\n				\n					\n						\n						\n							\n								\n									\n									\n										\n											\n												\n												\n												 \n\n												\n												\n												\n												EVENT HIGHLIGHTS\n												\n\n												HAPPY HOUR WITH SEVEN CAVES SPIRITS: Learn how to make the\n\n												perfect craft cocktail.\n\n												\n												 \n\n												EXCLUSIVE PANEL CONVERSATION: "Creating Art in the Time of COVID"\n\n												What future testing and vaccine breakthroughs mean for the return to cultural events\, education and public gatherings. With:\n\n												\n													Dr. Cheryl Anderson\, Founding Dean of UC San Diego's Herbert Wertheim School of Public Health and Human Longevity of Science\n													Christopher Ashley\, The Rich Family Artistic Director of La Jolla Playhouse and Tony Award-winning director of Come From Away\n													Pradeep K. Khosla\, Chancellor\, University of California San Diego\n													Jeffrey Seller\, Tony Award-winning producer of Hamilton and director of Fly\n													Dr. Eric Topol\, Gary & Mary West Endowed Chair of Innovative Medicine and Professor of Molecular Medicine\, Scripps Research\n												\n\n												\n												 \n												Plus\, Special Invited Guests: Joseph Panetta\, President & CEO of Biocom\; San Diego Mayor Kevin Faulconer\; and Admiral Brett Giroir\, M.D.\, United States Assistant Secretary for Health\n\n												 \n												\n												\n												\n												\n\n												\n												INNOVATION NIGHT GALLERY: Meet San Diego's top innovation companies in virtual galleries where you can learn about their latest developments and mix and mingle with industry pros.\n\n												\n\n												WOW DIGITAL THEATRE: Enjoy a selection of La Jolla Playhouse's digital theatre pieces\, including the world-premiere screening of You Are Here\, a personal road trip around the world in Google Earth.
X-ALT-DESC;FMTTYPE=text/html:<table border="0" cellpadding="0" cellspacing="0" class="x_layout x_layout-table x_root-table" style="color:rgb(0\, 0\, 0)\; font-family:arial\; font-size:14px\; font-stretch:inherit\; font-variant-east-asian:inherit\; font-variant-numeric:inherit\; line-height:inherit\; min-width:100%\; width:720px">\n	<tbody>\n		<tr>\n			<td>\n			<table border="0" cellpadding="0" cellspacing="0" style="border-collapse:initial !important\; font-family:inherit\; font-stretch:inherit\; font-style:inherit\; font-variant:inherit\; font-weight:inherit\; line-height:inherit\; min-width:100%\; width:100%">\n				<tbody>\n					<tr>\n						<td>\n						<table border="0" cellpadding="0" cellspacing="0" style="font-family:inherit\; font-stretch:inherit\; font-style:inherit\; font-variant:inherit\; font-weight:inherit\; line-height:inherit\; min-width:100%\; width:100%">\n							<tbody>\n								<tr>\n									<td>\n									<div>\n									<div>\n									<div>\n									<div>\n									<div>\n									<div style="text-align:center">\n									<div style="text-align:start">\n									<div style="text-align:center"><em>NOW ALL VIRTUAL! San Diego&rsquo\;s premier annual networking event will<br />\n									bring together leaders from San Diego&rsquo\;s community of<br />\n									<span style="font-size:inherit">science and technology innovators for an&nbsp\;</span>extraordinary evening.</em><br />\n									&nbsp\;</div>\n									</div>\n									<span style="font-family:open sans\,roboto\,san francisco\,helvetica\,arial\,sans-serif\; font-size:inherit">This Innovation Night\, we will celebrate and discuss the efforts of San Diego companies and organizations working on the front lines of the fight against COVID-19 and how their innovations will bring us back together again.<br />\n									<br />\n									All tickets benefit La Jolla Playhouse&#39\;s &quot\;R&amp\;D&quot\; activities such as<br />\n									Digital WOW programming and Education &amp\; Outreach efforts<br />\n									to support teachers with theatre curriculum during remote learning.</span><br />\n									&nbsp\;</div>\n									</div>\n									</div>\n									</div>\n									</div>\n									</div>\n									</td>\n								</tr>\n							</tbody>\n						</table>\n						</td>\n					</tr>\n				</tbody>\n			</table>\n			</td>\n		</tr>\n		<tr>\n			<td>\n			<table border="0" cellpadding="0" cellspacing="0" style="border-collapse:initial !important\; font-family:inherit\; font-stretch:inherit\; font-style:inherit\; font-variant:inherit\; font-weight:inherit\; line-height:inherit\; min-width:100%\; width:100%">\n				<tbody>\n					<tr>\n						<td style="border-color:rgb(25\, 98\, 166)">\n						<table border="0" cellpadding="0" cellspacing="0" style="font-family:inherit\; font-stretch:inherit\; font-style:inherit\; font-variant:inherit\; font-weight:inherit\; line-height:inherit\; min-width:100%\; width:100%">\n							<tbody>\n								<tr>\n									<td>\n									<table border="0" cellpadding="0" cellspacing="0" style="font-family:inherit\; font-stretch:inherit\; font-style:inherit\; font-variant:inherit\; font-weight:inherit\; line-height:inherit\; min-width:100%\; width:100%">\n										<tbody>\n											<tr>\n												<td>\n												<div>\n												<div>&nbsp\;</div>\n\n												<div>\n												<div>\n												<div>\n												<div style="text-align:center"><strong>EVENT HIGHLIGHTS</strong></div>\n												<br />\n												<span style="background-color:initial\; font-family:inherit\; font-size:18px"><span style="color:rgb(4\, 95\, 180)"><strong>HAPPY HOUR</strong><strong>&nbsp\;WITH SEVEN CAVES SPIRITS:</strong></span>&nbsp\;Learn how to make the<br />\n												perfect craft cocktail.</span></div>\n\n												<div>\n												<div>&nbsp\;</div>\n\n												<div><span style="color:inherit\; font-family:open sans\,roboto\,san francisco\,helvetica\,arial\,sans-serif\; font-size:inherit"><strong>EXCLUSIVE PANEL CONVERSATION:</strong><span style="background-color:initial"><span style="font-family:inherit"><strong>&nbsp\;&quot\;Creating Art in the Time of COVID&quot\;</strong><br />\n												What future testing and vaccine breakthroughs mean for the return to cultural events\, education and public gatherings. With:</span></span></span>\n\n												<ul>\n													<li><span style="color:inherit\; font-family:open sans\,roboto\,san francisco\,helvetica\,arial\,sans-serif\; font-size:inherit"><span style="background-color:initial"><span style="background-color:initial"><strong>Dr. Cheryl Anderson</strong>\, Founding&nbsp\;Dean of UC San Diego&rsquo\;s Herbert Wertheim School of Public Health and Human Longevity of Science</span></span></span></li>\n													<li><span style="color:inherit\; font-family:open sans\,roboto\,san francisco\,helvetica\,arial\,sans-serif\; font-size:inherit"><span style="background-color:initial"><span style="background-color:initial"><strong>Christopher Ashley\,&nbsp\;</strong>The Rich Family Artistic Director of La Jolla Playhouse and Tony Award-winning director of&nbsp\;</span><em>Come From Away</em></span></span></li>\n													<li><span style="color:inherit\; font-family:open sans\,roboto\,san francisco\,helvetica\,arial\,sans-serif\; font-size:inherit"><span style="background-color:initial"><span style="background-color:initial\; font-size:inherit">Pradeep K. Khosla\,&nbsp\;</span><span style="background-color:initial\; font-size:inherit">Chancellor\, University of California San Diego</span></span></span></li>\n													<li><span style="color:inherit\; font-family:open sans\,roboto\,san francisco\,helvetica\,arial\,sans-serif\; font-size:inherit"><span style="background-color:initial"><span style="background-color:initial"><strong>Jeffrey Seller\,&nbsp\;</strong>Tony Award-winning producer of&nbsp\;</span><em>Hamilton</em><span style="background-color:initial\; font-family:inherit\; font-size:inherit">&nbsp\;and director of&nbsp\;</span><em>Fly</em></span></span></li>\n													<li><span style="color:inherit\; font-family:open sans\,roboto\,san francisco\,helvetica\,arial\,sans-serif\; font-size:inherit"><span style="background-color:initial"><span style="background-color:initial\; font-family:inherit"><strong>Dr. Eric Topol\,&nbsp\;</strong><span style="font-family:inherit">Gary &amp\; Mary West Endowed Chair of Innovative Medicine and Professor of Molecular Medicine\, Scripps Research</span></span></span></span></li>\n												</ul>\n\n												<div>\n												<div>&nbsp\;\n												<div><span style="color:inherit\; font-family:open sans\,roboto\,san francisco\,helvetica\,arial\,sans-serif\; font-size:inherit"><span style="background-color:initial"><span style="color:inherit">Plus\, Special Invited Guests:&nbsp\;</span><strong>Joseph Panetta<span style="color:inherit">\,</span></strong><span style="background-color:initial\; font-size:inherit">&nbsp\;President &amp\; CEO of Biocom\;&nbsp\;</span><strong><span style="background-color:initial\; color:inherit\; font-size:inherit">San Diego</span><span style="background-color:initial\; font-size:inherit">&nbsp\;</span></strong><span style="background-color:initial\; color:inherit\; font-size:inherit"><strong>Mayor Kevin Faulconer</strong>\;<strong>&nbsp\;</strong></span><span style="background-color:initial\; color:inherit\; font-size:inherit">and&nbsp\;</span><span style="background-color:initial\; font-size:inherit">Admiral Brett Giroir\, M.D.</span><span style="background-color:initial\; color:inherit\; font-size:inherit">\, United States Assistant Secretary for Health</span></span></span><br />\n												&nbsp\;</div>\n												</div>\n												</div>\n												</div>\n												</div>\n\n												<div style="text-align:center">\n												<div style="text-align:left"><span style="font-family:open sans\,roboto\,san francisco\,helvetica\,arial\,sans-serif"><strong>INNOVATION NIGHT GALLERY:&nbsp\;</strong>Meet San Diego&#39\;s top innovation companies in virtual galleries where you can learn about their latest developments and mix and mingle with industry pros.<br />\n												<br />\n												<strong>WOW DIGITAL THEATRE:</strong>&nbsp\;Enjoy a selection of La Jolla Playhouse&#39\;s digital theatre pieces\, including the world-premiere screening of&nbsp\;<em>You Are Here</em>\, a personal road trip around the world in Google Earth.</span></div>\n												</div>\n												</div>\n												</div>\n												</div>\n												</td>\n											</tr>\n										</tbody>\n									</table>\n									</td>\n								</tr>\n							</tbody>\n						</table>\n						</td>\n					</tr>\n				</tbody>\n			</table>\n			</td>\n		</tr>\n	</tbody>\n</table>\n
LOCATION:Virtual on our Innovation Night event site (provided upon registration).
UID:e.784.26246
SEQUENCE:3
DTSTAMP:20260425T194114Z
URL:https://chamber.sdbusinesschamber.com/events/details/la-jolla-playhouse-digital-innovation-night-virtual-26246
END:VEVENT

END:VCALENDAR
