BEGIN:VCALENDAR
VERSION:2.0
PRODID:-//ChamberMaster//Event Calendar 2.0//EN
METHOD:PUBLISH
X-PUBLISHED-TTL:P3D
REFRESH-INTERVAL:P3D
CALSCALE:GREGORIAN
BEGIN:VEVENT
DTSTART;VALUE=DATE:20210116
DTEND;VALUE=DATE:20210118
TRANSP:TRANSPARENT
X-MICROSOFT-CDO-ALLDAYEVENT:TRUE
SUMMARY:January Collectors Estate Auction
DESCRIPTION:January Collectors Estate Auction - NorthCountyAuctions.Com\n\nLots start closing Sunday\, January 17 - 5:15 PM  Pacific Escondido\, CA\n\n \n\nKit Car\, Gems\, Coins\, Sports memorabilia\, MTG\, Pokemon\, costumes\, militaria\, etc. Collector stuff! To get upcoming auctions\, text ncauctions to 77222. Email or text with questions (619) 789-7848
X-ALT-DESC;FMTTYPE=text/html:<div>January Collectors Estate Auction&nbsp\;-&nbsp\;<a href="https://NorthCountyAuctions.Com" style="color: rgb(48\, 121\, 164)\; text-decoration-line: none\;">NorthCountyAuctions.Com</a></div>\n\n<div>Lots start closing Sunday\, January 17 - 5:15 PM &nbsp\;Pacific Escondido\, CA<br />\n&nbsp\;</div>\n\n<div>Kit Car\, Gems\, Coins\, Sports memorabilia\, MTG\, Pokemon\, costumes\, militaria\, etc. Collector stuff! To get upcoming auctions\, text ncauctions to 77222. Email or text with questions (619) 789-7848</div>\n
LOCATION:NorthCountyAuctions.Com
UID:e.784.26965
SEQUENCE:3
DTSTAMP:20260425T154229Z
URL:https://chamber.sdbusinesschamber.com/events/details/january-collectors-estate-auction-26965
END:VEVENT

END:VCALENDAR
