BEGIN:VCALENDAR
VERSION:2.0
PRODID:-//ChamberMaster//Event Calendar 2.0//EN
METHOD:PUBLISH
X-PUBLISHED-TTL:P3D
REFRESH-INTERVAL:P3D
CALSCALE:GREGORIAN
BEGIN:VEVENT
DTSTART:20121013T030000Z
DTEND:20121013T050000Z
X-MICROSOFT-CDO-ALLDAYEVENT:FALSE
SUMMARY:Jake Shimabukuro
DESCRIPTION:"If everyone played the ukulele\, the world would be a better place"   Jake S.\n\n	Forget everything you know about the ukulele -- this is no tiptoe through the tulips!  Jake Shimabukuro takes the ukulele to places you've never seen or heard before.  Compared to Yo Yo Ma\, Jimi Hendrix and Miles Davis\, Shimabukuro has redefined the ukulele for the 21st Century\, performing fully arranged versions of concert classics like the Beatles' "While My Guitar Gently Weeps\," Queen's "Bohemian Rhapsody" and Leonard Cohen's "Hallelujah"   all on only four short strings!  His live shows have critics and fans tripping over themselves with praise\, and his YouTube clips have been viewed more than 10 million times.  The guru of "Peace\, Love and Ukulele\," Shimabukuro   offers a one-of-a-kind concert experience!  Catch Jake now and say "I saw him when " for years to come.
X-ALT-DESC;FMTTYPE=text/html:<p class="MsoNormal" style="margin: 0in 0in 10pt">\n	<font size="3"><font color="#000000"><font face="Calibri">&ldquo\;If everyone played the ukulele\, the world would be a better place&rdquo\; &ndash\; Jake S.<o:p></o:p></font></font></font></p>\n<p class="MsoNormal" style="margin: 0in 0in 10pt">\n	<font size="3"><font color="#000000"><font face="Calibri">Forget everything you know about the ukulele -- this is no tiptoe through the tulips!<span style="mso-spacerun: yes">&nbsp\; </span>Jake Shimabukuro takes the ukulele to places you&rsquo\;ve never seen or heard before.<span style="mso-spacerun: yes">&nbsp\; </span>Compared to Yo Yo Ma\, Jimi Hendrix and Miles Davis\, Shimabukuro has redefined the ukulele for the 21st Century\, performing fully arranged versions of concert classics like the Beatles&rsquo\; &ldquo\;While My Guitar Gently Weeps\,&rdquo\; Queen&rsquo\;s &ldquo\;Bohemian Rhapsody&rdquo\; and Leonard Cohen&rsquo\;s &ldquo\;Hallelujah&rdquo\; &ndash\; all on only four short strings!<span style="mso-spacerun: yes">&nbsp\; </span>His live shows have critics and fans tripping over themselves with praise\, and his YouTube clips have been viewed more than 10 million times.<span style="mso-spacerun: yes">&nbsp\; </span>The guru of &ldquo\;Peace\, Love and Ukulele\,&rdquo\; Shimabukuro<span style="mso-spacerun: yes">&nbsp\;&nbsp\; </span>offers a one-of-a-kind concert experience!<span style="mso-spacerun: yes">&nbsp\; </span>Catch Jake now and say &ldquo\;I saw him when&hellip\;&rdquo\; for years to come.<o:p></o:p></font></font></font></p>\n
LOCATION:Poway Center for the Performing Arts 15498 Espola Road\, Poway\, CA 92064
UID:e.784.2661
SEQUENCE:3
DTSTAMP:20260422T075603Z
URL:https://chamber.sdbusinesschamber.com/events/details/jake-shimabukuro-10-12-2012-2661
END:VEVENT

END:VCALENDAR
