BEGIN:VCALENDAR
VERSION:2.0
PRODID:-//ChamberMaster//Event Calendar 2.0//EN
METHOD:PUBLISH
X-PUBLISHED-TTL:P3D
REFRESH-INTERVAL:P3D
CALSCALE:GREGORIAN
BEGIN:VEVENT
DTSTART:20090517T070000Z
DTEND:20090517T070000Z
X-MICROSOFT-CDO-ALLDAYEVENT:FALSE
SUMMARY:How to Manage Your Stress in Tough Economic Times
DESCRIPTION:Learn ways to identify and manage stressors that are currently impacting your life.
X-ALT-DESC;FMTTYPE=text/html:Learn ways to identify and manage stressors that are currently impacting your life.
LOCATION:Courtyard by Marriot
UID:e.784.-164
SEQUENCE:3
DTSTAMP:20260424T181934Z
URL:https://chamber.sdbusinesschamber.com/events/details/how-to-manage-your-stress-in-tough-economic-times-05-17-2009
END:VEVENT

END:VCALENDAR
