BEGIN:VCALENDAR
VERSION:2.0
PRODID:-//ChamberMaster//Event Calendar 2.0//EN
METHOD:PUBLISH
X-PUBLISHED-TTL:P3D
REFRESH-INTERVAL:P3D
CALSCALE:GREGORIAN
BEGIN:VEVENT
DTSTART:20110603T163000Z
DTEND:20110603T190000Z
X-MICROSOFT-CDO-ALLDAYEVENT:FALSE
SUMMARY:How to do Business with Your Local Government
DESCRIPTION:Have questions about doing business with local government agencies?\n\n\n\nInterested in learning about business opportunities?\n\n\n\nLooking for networking opportunities with purchasing officials?\n\n\n\n\n	Meet Purchasing Agents from:\n\n	\n		County of San Diego\n	\n		San Diego Association of Governments\n	\n		Northrop Grumman\n	\n		San Diego County Water Authority\n\n\n	Co-hosted by:\nSan Diego North Chamber of Commerce\n\nSan Diego County Supervisor Pam Slater-Price\n\nThe Business and Entrepreneurship Center\n\nThe Small Business Development Center San Diego County
X-ALT-DESC;FMTTYPE=text/html:Have questions about doing business with local government agencies?<br />\n<br />\nInterested in learning about business opportunities?<br />\n<br />\nLooking for networking opportunities with purchasing officials?<br />\n<br />\n<h4>\n	Meet Purchasing Agents from:</h4>\n<ul>\n	<li>\n		County of San Diego</li>\n	<li>\n		San Diego Association of Governments</li>\n	<li>\n		Northrop Grumman</li>\n	<li>\n		San Diego County Water Authority</li>\n</ul>\n<h4>\n	Co-hosted by:</h4>\nSan Diego North Chamber of Commerce<br />\nSan Diego County Supervisor Pam Slater-Price<br />\nThe Business and Entrepreneurship Center<br />\nThe Small Business Development Center San Diego County
LOCATION:Rancho Bernardo Library 17110 Bernardo Center Drive San Diego CA 92128
UID:e.784.2306
SEQUENCE:3
DTSTAMP:20260423T070542Z
URL:https://chamber.sdbusinesschamber.com/events/details/how-to-do-business-with-your-local-government-06-03-2011-2306
END:VEVENT

END:VCALENDAR
