BEGIN:VCALENDAR
VERSION:2.0
PRODID:-//ChamberMaster//Event Calendar 2.0//EN
METHOD:PUBLISH
X-PUBLISHED-TTL:P3D
REFRESH-INTERVAL:P3D
CALSCALE:GREGORIAN
BEGIN:VEVENT
DTSTART:20100506T070000Z
DTEND:20100506T070000Z
X-MICROSOFT-CDO-ALLDAYEVENT:FALSE
SUMMARY:Honorary Mayor Candidate Party - Robin Kaufman
DESCRIPTION:
X-ALT-DESC;FMTTYPE=text/html:
LOCATION:Athen's Market Cafe
UID:e.784.997
SEQUENCE:3
DTSTAMP:20260424T012629Z
URL:https://chamber.sdbusinesschamber.com/events/details/honorary-mayor-candidate-party-robin-kaufman-05-06-2010-997
END:VEVENT

END:VCALENDAR
