BEGIN:VCALENDAR
VERSION:2.0
PRODID:-//ChamberMaster//Event Calendar 2.0//EN
METHOD:PUBLISH
X-PUBLISHED-TTL:P3D
REFRESH-INTERVAL:P3D
CALSCALE:GREGORIAN
BEGIN:VEVENT
DTSTART:20120914T010000Z
DTEND:20120914T030000Z
X-MICROSOFT-CDO-ALLDAYEVENT:FALSE
SUMMARY:Holiday Inn Miramar Open House
DESCRIPTION:You're Invited to See Our NEW LOOK!!!\n\nNewly Renovated Rooms!\n\n1\,000 capacity Conference Room!!\n\nMeeting Venues!\n\nEnjoy Great Food!
X-ALT-DESC;FMTTYPE=text/html:You&#39\;re Invited to See Our NEW LOOK!!!<br />\nNewly Renovated Rooms!<br />\n1\,000 capacity Conference Room!!<br />\nMeeting Venues!<br />\nEnjoy Great Food!
LOCATION:Holiday Inn Miramar 9335 Kearny Mesa Road San Diego\, CA. 92126
UID:e.784.2682
SEQUENCE:3
DTSTAMP:20260422T105712Z
URL:https://chamber.sdbusinesschamber.com/events/details/holiday-inn-miramar-open-house-09-13-2012-2682
END:VEVENT

END:VCALENDAR
