BEGIN:VCALENDAR
VERSION:2.0
PRODID:-//ChamberMaster//Event Calendar 2.0//EN
METHOD:PUBLISH
X-PUBLISHED-TTL:P3D
REFRESH-INTERVAL:P3D
CALSCALE:GREGORIAN
BEGIN:VEVENT
DTSTART:20120816T160000Z
DTEND:20120816T210000Z
X-MICROSOFT-CDO-ALLDAYEVENT:FALSE
SUMMARY:Hiring For Heroes
DESCRIPTION:Join the US Chamber of Commerce for a hiring fair for veteran job seekers\, active military members\, guard and reserve members and military spouses at Anchors Catering & Conference Center. This event will be a one of a kind FREE hiring fair for both employers and job seekers.
X-ALT-DESC;FMTTYPE=text/html:Join the US Chamber of Commerce for a hiring fair for veteran job seekers\, active military members\, guard and reserve members and military spouses at Anchors Catering &amp\; Conference Center. This event will be a one of a kind FREE hiring fair for both employers and job seekers.
LOCATION:Anchors Catering & Conference Center 2375 Recreational Way\, Bldg 3210 San Diego\, CA 92136
UID:e.784.2646
SEQUENCE:3
DTSTAMP:20260422T105416Z
URL:https://chamber.sdbusinesschamber.com/events/details/hiring-for-heroes-08-16-2012-2646
END:VEVENT

END:VCALENDAR
