BEGIN:VCALENDAR
VERSION:2.0
PRODID:-//ChamberMaster//Event Calendar 2.0//EN
METHOD:PUBLISH
X-PUBLISHED-TTL:P3D
REFRESH-INTERVAL:P3D
CALSCALE:GREGORIAN
BEGIN:VEVENT
DTSTART:20210324T011500Z
DTEND:20210324T030000Z
X-MICROSOFT-CDO-ALLDAYEVENT:FALSE
SUMMARY:Hidden Challenges of the New Normal: Experts in Behavioral Health & Public Safety Weigh In
DESCRIPTION:University of Phoenix will be hosting an expert panel on the challenges facing us as we recover from the COVID-19 pandemic and adapt to a "new normal." Front-liners in public safety and behavioral health in San Diego will join to offer their unique insight into COVID-19's collateral effect on our communities.
X-ALT-DESC;FMTTYPE=text/html:University of Phoenix will be hosting an expert panel on the challenges facing us as we recover from the COVID-19 pandemic and adapt to a &ldquo\;new normal.&rdquo\; Front-liners in public safety and behavioral health in San Diego will join to offer their unique insight into COVID-19&rsquo\;s collateral effect on our communities.
LOCATION:Virtual (Zoom) - https://bit.ly/hiddenchallengesevent
UID:e.784.27397
SEQUENCE:3
DTSTAMP:20260425T130533Z
URL:https://chamber.sdbusinesschamber.com/events/details/hidden-challenges-of-the-new-normal-experts-in-behavioral-health-public-safety-weigh-in-27397
END:VEVENT

END:VCALENDAR
