BEGIN:VCALENDAR
VERSION:2.0
PRODID:-//ChamberMaster//Event Calendar 2.0//EN
METHOD:PUBLISH
X-PUBLISHED-TTL:P3D
REFRESH-INTERVAL:P3D
CALSCALE:GREGORIAN
BEGIN:VEVENT
DTSTART;VALUE=DATE:20201101
DTEND;VALUE=DATE:20210101
TRANSP:TRANSPARENT
X-MICROSOFT-CDO-ALLDAYEVENT:TRUE
SUMMARY:Help Fund Two New Bloodmobiles - SD Blood Bank
DESCRIPTION:San Diego Self Storage and Anthony R. Carr\, Managing Partner\, have partnered with San Diego Blood Bank to match all gifts received by December 31\, 2020\, up to $70\,000! This matching challenge will fund two new bloodmobiles to replace ones that have reached their lifespan and cannot be retrofitted.\n\nOne bloodmobile can collect up to 7\,000 units of blood per year\, impacting up to 21\,000 lives and over the 15-year lifespan of two bloodmobiles\, approximately 210\,000 units will be collected. Since one unit of blood can save up to three lives\, an estimated 630\,000 people of all ages and socio-economic backgrounds will be impacted.\n\nThis matching gift challenge is a great opportunity to show your support for SDBB and our mission to save lives with quality blood services in partnership with the community. We could not do it without you!
X-ALT-DESC;FMTTYPE=text/html:<p><span style="font-size:14px">San Diego Self Storage and Anthony R. Carr\, Managing Partner\, have partnered with <strong>San Diego Blood Bank</strong> <strong>to match all gifts received by December 31\, 2020\, up to $70\,000! </strong>This matching challenge will fund two new bloodmobiles to replace ones that have reached their lifespan and cannot be retrofitted.</span></p>\n\n<p><span style="font-size:14px">One bloodmobile can collect up to 7\,000 units of blood per year\, impacting up to 21\,000 lives and over the 15-year lifespan of two bloodmobiles\, approximately 210\,000 units will be collected. Since one unit of blood can save up to three lives\, an estimated 630\,000 people of all ages and socio-economic backgrounds will be impacted.</span></p>\n\n<p><span style="font-size:14px">This matching gift challenge is a great opportunity to show your support for SDBB and our mission to save lives with quality blood services in partnership with the community. We could not do it without you!</span></p>\n\n<p>&nbsp\;</p>\n
LOCATION:https://www.classy.org/give/267358/#!/donation/checkout
UID:e.784.26708
SEQUENCE:3
DTSTAMP:20260425T172023Z
URL:https://chamber.sdbusinesschamber.com/events/details/help-fund-two-new-bloodmobiles-sd-blood-bank-26708
END:VEVENT

END:VCALENDAR
