BEGIN:VCALENDAR
VERSION:2.0
PRODID:-//ChamberMaster//Event Calendar 2.0//EN
METHOD:PUBLISH
X-PUBLISHED-TTL:P3D
REFRESH-INTERVAL:P3D
CALSCALE:GREGORIAN
BEGIN:VEVENT
DTSTART:20120626T003000Z
DTEND:20120626T023000Z
X-MICROSOFT-CDO-ALLDAYEVENT:FALSE
SUMMARY:Health Forum 2012
DESCRIPTION:A Discussion About Healthcare Reform and The Supreme Court Decision's Impact on Business.\n\n\n\nFeaturing:\n\nSteve Escoboza\, President and CEO\, Hospital Association of San Diego and Imperial Counties\n\nMark Haskell\, Vice President of Legislation\, San Diego Association of Health Underwriters\n\nTom Gehring\, Executive Director and CEO\, San Diego County Medical Society\n\nJan Spencley\, Executive Director\, San Diegans for Healthcare Reform\n\n\n\nMC: Lauren Reynolds\, Former 10 News Reporter\, At Home Care Solutions
X-ALT-DESC;FMTTYPE=text/html:A Discussion About Healthcare Reform and The Supreme Court Decision&#39\;s Impact on Business.<br />\n<br />\nFeaturing:<br />\n<strong>Steve Escoboza\,</strong> President and CEO\, Hospital Association of San Diego and Imperial Counties<br />\n<strong>Mark Haskell\,</strong> Vice President of Legislation\, San Diego Association of Health Underwriters<br />\n<strong>Tom Gehring\,</strong> Executive Director and CEO\, San Diego County Medical Society<br />\n<strong>Jan Spencley\,</strong> Executive Director\, San Diegans for Healthcare Reform<br />\n<br />\nMC: Lauren Reynolds\, Former 10 News Reporter\, At Home Care Solutions
LOCATION:DoubleTree Golf Resort 14455 Penasquitos Dr San Diego\, CA 92129
UID:e.784.2658
SEQUENCE:3
DTSTAMP:20260422T140450Z
URL:https://chamber.sdbusinesschamber.com/events/details/health-forum-2012-06-25-2012-2658
END:VEVENT

END:VCALENDAR
