BEGIN:VCALENDAR
VERSION:2.0
PRODID:-//ChamberMaster//Event Calendar 2.0//EN
METHOD:PUBLISH
X-PUBLISHED-TTL:P3D
REFRESH-INTERVAL:P3D
CALSCALE:GREGORIAN
BEGIN:VEVENT
DTSTART:20130827T150000Z
DTEND:20130827T163000Z
X-MICROSOFT-CDO-ALLDAYEVENT:FALSE
SUMMARY:Health Committee Retreat
DESCRIPTION:This is the annual retreat for the Health Committee. This meeting is only opened to current committee members.
X-ALT-DESC;FMTTYPE=text/html:This is the annual retreat for the Health Committee. This meeting is only opened to current committee members.&nbsp\;
LOCATION:Harrah's Rincon Casino & Resort 777 Harrah's Rincon Way Valley Center CA 92591
UID:e.784.2714
SEQUENCE:3
DTSTAMP:20260421T155905Z
URL:https://chamber.sdbusinesschamber.com/events/details/health-committee-retreat-08-27-2013-2714
END:VEVENT

END:VCALENDAR
