BEGIN:VCALENDAR
VERSION:2.0
PRODID:-//ChamberMaster//Event Calendar 2.0//EN
METHOD:PUBLISH
X-PUBLISHED-TTL:P3D
REFRESH-INTERVAL:P3D
CALSCALE:GREGORIAN
BEGIN:VEVENT
DTSTART:20121204T160000Z
DTEND:20121204T173000Z
X-MICROSOFT-CDO-ALLDAYEVENT:FALSE
SUMMARY:Health Committee Meeting
DESCRIPTION:
X-ALT-DESC;FMTTYPE=text/html:
LOCATION:West Wireless Health Institute 10350 North Torrey Pines Road La Jolla\, CA 92122
UID:e.784.2705
SEQUENCE:3
DTSTAMP:20260422T045518Z
URL:https://chamber.sdbusinesschamber.com/events/details/health-committee-meeting-12-04-2012-2705
END:VEVENT

END:VCALENDAR
