BEGIN:VCALENDAR
VERSION:2.0
PRODID:-//ChamberMaster//Event Calendar 2.0//EN
METHOD:PUBLISH
X-PUBLISHED-TTL:P3D
REFRESH-INTERVAL:P3D
CALSCALE:GREGORIAN
BEGIN:VEVENT
DTSTART:20130625T150000Z
DTEND:20130625T163000Z
X-MICROSOFT-CDO-ALLDAYEVENT:FALSE
SUMMARY:Health Committee Meeting
DESCRIPTION:
X-ALT-DESC;FMTTYPE=text/html:
LOCATION:SDNCC 10875 Rancho Bernardo Road Suite 104 San Diego CA 92127
UID:e.784.2712
SEQUENCE:3
DTSTAMP:20260421T205101Z
URL:https://chamber.sdbusinesschamber.com/events/details/health-committee-meeting-06-25-2013-2712
END:VEVENT

END:VCALENDAR
