BEGIN:VCALENDAR
VERSION:2.0
PRODID:-//ChamberMaster//Event Calendar 2.0//EN
METHOD:PUBLISH
X-PUBLISHED-TTL:P3D
REFRESH-INTERVAL:P3D
CALSCALE:GREGORIAN
BEGIN:VEVENT
DTSTART:20130326T150000Z
DTEND:20130326T163000Z
X-MICROSOFT-CDO-ALLDAYEVENT:FALSE
SUMMARY:Health Committee Meeting
DESCRIPTION:
X-ALT-DESC;FMTTYPE=text/html:
LOCATION:Camp Pendleton (please RSVP for directions)
UID:e.784.2709
SEQUENCE:3
DTSTAMP:20260422T014603Z
URL:https://chamber.sdbusinesschamber.com/events/details/health-committee-meeting-03-26-2013-2709
END:VEVENT

END:VCALENDAR
