BEGIN:VCALENDAR
VERSION:2.0
PRODID:-//ChamberMaster//Event Calendar 2.0//EN
METHOD:PUBLISH
X-PUBLISHED-TTL:P3D
REFRESH-INTERVAL:P3D
CALSCALE:GREGORIAN
BEGIN:VEVENT
DTSTART:20110628T150000Z
DTEND:20110628T160000Z
X-MICROSOFT-CDO-ALLDAYEVENT:FALSE
SUMMARY:Health Committee
DESCRIPTION:
X-ALT-DESC;FMTTYPE=text/html:
LOCATION:San Diego North Chamber of Commerce11650 Iberia Place Suite 220San Diego CA 92128
UID:e.784.1604
SEQUENCE:3
DTSTAMP:20260423T070316Z
URL:https://chamber.sdbusinesschamber.com/events/details/health-committee-06-28-2011-1604
END:VEVENT

END:VCALENDAR
