BEGIN:VCALENDAR
VERSION:2.0
PRODID:-//ChamberMaster//Event Calendar 2.0//EN
METHOD:PUBLISH
X-PUBLISHED-TTL:P3D
REFRESH-INTERVAL:P3D
CALSCALE:GREGORIAN
BEGIN:VEVENT
DTSTART:20100126T080000Z
DTEND:20100126T080000Z
X-MICROSOFT-CDO-ALLDAYEVENT:FALSE
SUMMARY:Health Committee
DESCRIPTION:
X-ALT-DESC;FMTTYPE=text/html:
LOCATION:SDNCC
UID:e.784.902
SEQUENCE:3
DTSTAMP:20260424T072407Z
URL:https://chamber.sdbusinesschamber.com/events/details/health-committee-01-26-2010-902
END:VEVENT

END:VCALENDAR
