BEGIN:VCALENDAR
VERSION:2.0
PRODID:-//ChamberMaster//Event Calendar 2.0//EN
METHOD:PUBLISH
X-PUBLISHED-TTL:P3D
REFRESH-INTERVAL:P3D
CALSCALE:GREGORIAN
BEGIN:VEVENT
DTSTART:20101111T020000Z
DTEND:20101111T040000Z
X-MICROSOFT-CDO-ALLDAYEVENT:FALSE
SUMMARY:Health Care Reform Forum
DESCRIPTION:The San Diego North Chamber of Commerce is pleased to present a forum and panel discussion on Healthcare Reform and how San Diego Employers and residents will be affected.\n\n	\n\n	Join SDNCC and Moderator Neil Crosby\, former president of the San Diego Association of Health Underwriters for a moderated discussion with executives from four major San Diego Care Providers.\n\n	\n\n	Panelists will discuss how reform will impact them and in turn how patients will be affected when they seek medical care.\n\n	Confirmed Panelists\n\n	 \n\n	\n		Tom Jackiewicz\, CEO - UCSD Health Systems\n	\n		Steve O'Kane\, CEO - Council of Community Clinics\n	\n		James Malone\, Medical Group Administrator - Kaiser Permanente\n	\n		Robert Hemker\, CFO - Palomar Pomerado Health\n	\n		Dr. John Jenrette\, CEO - Sharp Community Medical Group\n	\n		Susan Bantz\, CEO - Children's Physicians Medical Group\n\n\n\n\n	You Can Ask the Questions!\n\n\n\n\nThe San Diego North Chamber of Commerce is soliciting questions from San Diego employers and residents.\n\n\n\nIf you have a question that you want asked to the panel\, submit it via email to Matt Sanford at the San Diego North Chamber of Commerce\, msanford@sdncc.com.\n\n\n\nYou must include your name and business. Email Subject Should Read: Health Forum Question.\n\n\n\nSeating is limited\, reserve yours today!
X-ALT-DESC;FMTTYPE=text/html:<p>\n	The San Diego North Chamber of Commerce is pleased to present a forum and panel discussion on Healthcare Reform and how San Diego Employers and residents will be affected.<br />\n	<br />\n	Join SDNCC and Moderator Neil Crosby\, former president of the San Diego Association of Health Underwriters for a moderated discussion with executives from four major San Diego Care Providers.<br />\n	<br />\n	Panelists will discuss how reform will impact them and in turn how patients will be affected when they seek medical care.</p>\n<h3>\n	Confirmed Panelists</h3>\n<p>\n	&nbsp\;</p>\n<ul>\n	<li>\n		Tom Jackiewicz\, CEO - UCSD Health Systems</li>\n	<li>\n		Steve O&rsquo\;Kane\, CEO - Council of Community Clinics</li>\n	<li>\n		James Malone\, Medical Group Administrator - Kaiser Permanente</li>\n	<li>\n		Robert Hemker\, CFO - Palomar Pomerado Health</li>\n	<li>\n		Dr. John Jenrette\, CEO - Sharp Community Medical Group</li>\n	<li>\n		Susan Bantz\, CEO - Children&#39\;s Physicians Medical Group</li>\n</ul>\n<br />\n<h3>\n	You Can Ask the Questions!</h3>\n<br />\n<br />\nThe San Diego North Chamber of Commerce is soliciting questions from San Diego employers and residents.<br />\n<br />\nIf you have a question that you want asked to the panel\, submit it via email to Matt Sanford at the San Diego North Chamber of Commerce\, msanford@sdncc.com.<br />\n<br />\nYou must include your name and business. Email Subject Should Read: Health Forum Question.<br />\n<br />\nSeating is limited\, reserve yours today!
LOCATION:Ashford University 13480 Evening Creek Dr N San Diego CA 92128 (858) 391-5700
UID:e.784.1829
SEQUENCE:3
DTSTAMP:20260423T164754Z
URL:https://chamber.sdbusinesschamber.com/events/details/health-care-reform-forum-11-10-2010-1829
END:VEVENT

END:VCALENDAR
