BEGIN:VCALENDAR
VERSION:2.0
PRODID:-//ChamberMaster//Event Calendar 2.0//EN
METHOD:PUBLISH
X-PUBLISHED-TTL:P3D
REFRESH-INTERVAL:P3D
CALSCALE:GREGORIAN
BEGIN:VEVENT
DTSTART:20260428T150000Z
DTEND:20260428T160000Z
X-MICROSOFT-CDO-ALLDAYEVENT:FALSE
SUMMARY:Health Advisory Council
DESCRIPTION:Health is a priority for North San Diego Business Chamber as it plays an important role in shaping the region's economy. The Health Advisory Council strives to be the catalyst that connects business and health.\n\nThe Council works with topic experts\, public authorities\, community leaders\, Chamber Members\, and other organizations to educate San Diego businesses about regional health care issues that impact their bottom line and workforce productivity.\n\nAdvisory Council Members are responsible for discussing and deciding\, by vote\, the goals\, activities\, and strategies that the Chamber uses to deliver up-to-date\, health-related information to enhance the quality of life for San Diegans.\n\nFor more information about how to get involved with the Health Advisory Council\, call the Chamber at (858) 487-1767.\n\nRegistration is required.\n\nDon't know your member login? Contact the Chamber\n\nAll Chamber Members and their employees are invited to join the meetings and participate in the discussion.\n\n\n\nJoin us for our next meeting\, in person at the Chamber Office!
X-ALT-DESC;FMTTYPE=text/html:<p 0px="" color:="" font-size:="" margin:="" open="" outline:="" padding:="" style="border: 0px\; font-family: " vertical-align:="">Health is a priority for North San Diego Business Chamber as it plays an important role in shaping the region&#39\;s economy. The <a href="https://sdbusinesschamber.com/advisory-councils/health/">Health Advisory Council</a> strives to be the catalyst that connects business and health.</p>\n\n<p 1em="" color:="" font-size:="" margin:="" open="" outline:="" padding:="" style="border: 0px\; font-family: " vertical-align:="">The Council works with topic experts\, public authorities\, community leaders\, Chamber Members\, and other organizations to educate San Diego businesses about regional health care issues that impact their bottom line and workforce productivity.</p>\n\n<p 1em="" color:="" font-size:="" margin:="" open="" outline:="" padding:="" style="border: 0px\; font-family: " vertical-align:="">Advisory Council Members are responsible for discussing and deciding\, by vote\, the goals\, activities\, and strategies that the Chamber uses to deliver up-to-date\, health-related information to enhance the quality of life for San Diegans.</p>\n\n<p 1em="" color:="" font-size:="" margin:="" open="" outline:="" padding:="" style="border: 0px\; font-family: " vertical-align:="">For more information about how to get involved with the Health Advisory Council\, call the Chamber at (858) 487-1767.</p>\n\n<p 1em="" color:="" font-size:="" margin:="" open="" outline:="" padding:="" style="border: 0px\; font-family: " vertical-align:=""><strong style="border: 0px\; font-family: inherit\; font-style: inherit\; margin: 0px\; outline: 0px\; padding: 0px\; vertical-align: baseline\;">Registration is required.</strong><br style="font-family: Arial\, Helvetica\, sans-serif\;" />\n<span style="font-family: Arial\, Helvetica\, sans-serif\; color: rgb(0\, 0\, 0)\;"><em style="border: 0px\; font-family: arial\, sans-serif\; margin: 0px\; outline: 0px\; padding: 0px\; vertical-align: baseline\; box-sizing: border-box\; color: rgb(82\, 83\, 82)\;">Don&#39\;t know your&nbsp\;</em><em style="border: 0px\; font-family: arial\, sans-serif\; margin: 0px\; outline: 0px\; padding: 0px\; vertical-align: baseline\; box-sizing: border-box\; color: rgb(82\, 83\, 82)\;">member login?&nbsp\;</em></span><a href="mailto:admin@sdbusinesschamber.com?subject=Need%20Chamber%20Login" style="font-family: Arial\, Helvetica\, sans-serif\;">Contact&nbsp\;the Chamber</a></p>\n\n<p 0px="" 1em="" color:="" font-size:="" margin:="" open="" outline:="" padding:="" style="border: 0px\; font-family: " vertical-align:="">All Chamber Members and their employees are invited to join the meetings and participate in the discussion.<br />\n<br />\n<span style="font-size:14px\;"><span style="color:#008080\;"><strong>Join us for our next meeting\, in person at the Chamber Office!</strong></span></span><br />\n&nbsp\;</p>\n
LOCATION:Virtual Via Teams
UID:e.784.34571
SEQUENCE:3
DTSTAMP:20260420T134315Z
URL:https://chamber.sdbusinesschamber.com/events/details/health-advisory-council-04-28-2026-34571
END:VEVENT

END:VCALENDAR
