BEGIN:VCALENDAR
VERSION:2.0
PRODID:-//ChamberMaster//Event Calendar 2.0//EN
METHOD:PUBLISH
X-PUBLISHED-TTL:P3D
REFRESH-INTERVAL:P3D
CALSCALE:GREGORIAN
BEGIN:VEVENT
DTSTART:20130809T010000Z
DTEND:20130809T040000Z
X-MICROSOFT-CDO-ALLDAYEVENT:FALSE
SUMMARY:Harrahs Rincon Holiday Hoopla
DESCRIPTION:Join our Holiday Hoopla Party at Harrahs Rincon\; in the Bordeaux Room from 6-9PM.  During this time we would like you to explore the many possiblities we can offer you.  To sample our gourmet holiday fare and get a better understanding of why a holiday event at Harrahs Rincon will be delightful\, memorable and like nothing else!\n\n\n\nThere will an opportunity to win an IPAD\, so please rsvp with Linda Ball at lball@Rincon.Harrahs.com so she can email you the details on how to receive opportunity tickets.\n\n\n\nThank you and Happy Holidays in August!
X-ALT-DESC;FMTTYPE=text/html:Join our Holiday Hoopla Party at Harrahs Rincon\; in the Bordeaux Room from 6-9PM.&nbsp\; During this time we would like you to explore the many possiblities we can offer you.&nbsp\; To sample our gourmet holiday fare and get a better understanding of why a holiday event at Harrahs Rincon will be delightful\, memorable&nbsp\;and like nothing else!<br />\n<br />\nThere will an opportunity to win an IPAD\, so please rsvp with Linda Ball at <a href="mailto:lball@Rincon.Harrahs.com">lball@Rincon.Harrahs.com</a> so she can email you the details on how to receive opportunity tickets.<br />\n<br />\nThank you and Happy Holidays in August!
LOCATION:Harrahs Rincon Casino and Resort
UID:e.784.2929
SEQUENCE:3
DTSTAMP:20260421T161759Z
URL:https://chamber.sdbusinesschamber.com/events/details/harrahs-rincon-holiday-hoopla-08-08-2013-2929
END:VEVENT

END:VCALENDAR
