BEGIN:VCALENDAR
VERSION:2.0
PRODID:-//ChamberMaster//Event Calendar 2.0//EN
METHOD:PUBLISH
X-PUBLISHED-TTL:P3D
REFRESH-INTERVAL:P3D
CALSCALE:GREGORIAN
BEGIN:VEVENT
DTSTART:20201102T200000Z
DTEND:20201105T020000Z
X-MICROSOFT-CDO-ALLDAYEVENT:FALSE
SUMMARY:Halloween Candy Buy-Back
DESCRIPTION:Halloween can be a scary and stressful time of year for both children and families with sensory challenges and food allergy and sensitivities\, including from artificial dyes and sugars.\n\n \n\nThis Halloween\, if your child has food allergies or sensitivities\, or if you want to avoid the dreaded sugar surge and crash\, come EXCHANGE YOUR CANDY for fun toys\, activities\, and gift certificates in a safe and inclusive environment as part of the Teal Pumpkin Project.\n\n \n\nProgram specials and center tours available. RSVP not required but helpful. Halloween costumes encouraged.\n\n\n\nContact sandiego@brainbalancecenters.com for more information.
X-ALT-DESC;FMTTYPE=text/html:<div>Halloween can be a scary and stressful time of year for both children and families with sensory challenges and food allergy and sensitivities\, including from artificial dyes and sugars.<br />\n&nbsp\;</div>\n\n<div>This Halloween\, if your child has food allergies or sensitivities\, or if you want to avoid the dreaded sugar surge and crash\, come EXCHANGE YOUR CANDY for fun toys\, activities\, and gift certificates in a safe and inclusive environment as part of the Teal Pumpkin Project.<br />\n&nbsp\;</div>\n\n<div>Program specials and center tours available. RSVP not required but helpful. Halloween costumes encouraged.</div>\n\n<div><br />\nContact sandiego@brainbalancecenters.com for more information.</div>\n
LOCATION:Brain Balance San Diego 10175 Rancho Carmel Dr.\, Suite 124 San Diego\, CA 92128
UID:e.784.26549
SEQUENCE:3
DTSTAMP:20260425T182124Z
URL:https://chamber.sdbusinesschamber.com/events/details/halloween-candy-buy-back-26549
END:VEVENT

END:VCALENDAR
