BEGIN:VCALENDAR
VERSION:2.0
PRODID:-//ChamberMaster//Event Calendar 2.0//EN
METHOD:PUBLISH
X-PUBLISHED-TTL:P3D
REFRESH-INTERVAL:P3D
CALSCALE:GREGORIAN
BEGIN:VEVENT
DTSTART:20120421T160000Z
DTEND:20120421T200000Z
X-MICROSOFT-CDO-ALLDAYEVENT:FALSE
SUMMARY:Grandparents Raising Grandchildren
DESCRIPTION:Some 24\,000 grandparents in San Diego County have primary responsibility for their grandchildren.  Being a grandparent who's also parenting later in life has its unique chanllenges and rewards.  Fortunately\, San Diego County has many resources for these special families.\n\n\n\nCome to this FREE event to learn more\, meet others who share your same needs\, find support.\n\n\n\nGrandparents can choose to participate at regional sites rather than the main site.  Keynote speakers will be webcast to these locations\, followed by activities\, talks and/or workshops unique to each region.\n\n\n\nLunch provided\, and childcare upon request.
X-ALT-DESC;FMTTYPE=text/html:Some 24\,000 grandparents in San Diego County have primary responsibility for their grandchildren.&nbsp\; Being a grandparent who&#39\;s also parenting later in life has its unique chanllenges and rewards.&nbsp\; Fortunately\, San Diego County has many resources for these special families.<br />\n<br />\nCome to this FREE event to learn more\, meet others who share your same needs\, find support.<br />\n<br />\nGrandparents can choose to participate at regional sites rather than the main site.&nbsp\; Keynote speakers will be webcast to these locations\, followed by activities\, talks and/or workshops unique to each region.<br />\n<br />\nLunch provided\, and childcare upon request.
LOCATION:Main Site: Jacobs Center\, 404 Euclid Avenue\, San Diego 92114 North County Coastal Site: North County Lifeline Vista Townsite\, 642 Vista Village Drive\, Vista 92083 North County Inland Site: San Diego Children's Discovery Museum\, 320 N Broadway\, Escondido 92025
UID:e.784.2623
SEQUENCE:3
DTSTAMP:20260422T174244Z
URL:https://chamber.sdbusinesschamber.com/events/details/grandparents-raising-grandchildren-04-21-2012-2623
END:VEVENT

END:VCALENDAR
