BEGIN:VCALENDAR
VERSION:2.0
PRODID:-//ChamberMaster//Event Calendar 2.0//EN
METHOD:PUBLISH
X-PUBLISHED-TTL:P3D
REFRESH-INTERVAL:P3D
CALSCALE:GREGORIAN
BEGIN:VEVENT
DTSTART:20100518T070000Z
DTEND:20100518T070000Z
X-MICROSOFT-CDO-ALLDAYEVENT:FALSE
SUMMARY:Grand Opening - Shea Family Chiropractic
DESCRIPTION:
X-ALT-DESC;FMTTYPE=text/html:
LOCATION:Shea Family Chiropractic
UID:e.784.1003
SEQUENCE:3
DTSTAMP:20260424T012657Z
URL:https://chamber.sdbusinesschamber.com/events/details/grand-opening-shea-family-chiropractic-05-18-2010-1003
END:VEVENT

END:VCALENDAR
