BEGIN:VCALENDAR
VERSION:2.0
PRODID:-//ChamberMaster//Event Calendar 2.0//EN
METHOD:PUBLISH
X-PUBLISHED-TTL:P3D
REFRESH-INTERVAL:P3D
CALSCALE:GREGORIAN
BEGIN:VEVENT
DTSTART:20131116T140000Z
DTEND:20131116T230000Z
X-MICROSOFT-CDO-ALLDAYEVENT:FALSE
SUMMARY:Got Your Back San Diego Fundraiser
DESCRIPTION:Every Broken Yolk Cafe location in San Diego will be donating 20% of sales to the Got Your Back organization to provide children with backpacks full of non-perishable foods.\n\n\n\nYou can also bring in non-perishable food items to donate.
X-ALT-DESC;FMTTYPE=text/html:Every Broken Yolk Cafe location in San Diego will be donating 20% of sales to the Got Your Back organization to provide children with backpacks full of non-perishable foods.<br />\n<br />\nYou can also bring in non-perishable food items to donate.
LOCATION:Broken Yolk Cafe
UID:e.784.2996
SEQUENCE:3
DTSTAMP:20260421T113314Z
URL:https://chamber.sdbusinesschamber.com/events/details/got-your-back-san-diego-fundraiser-11-16-2013-2996
END:VEVENT

END:VCALENDAR
