BEGIN:VCALENDAR
VERSION:2.0
PRODID:-//ChamberMaster//Event Calendar 2.0//EN
METHOD:PUBLISH
X-PUBLISHED-TTL:P3D
REFRESH-INTERVAL:P3D
CALSCALE:GREGORIAN
BEGIN:VEVENT
DTSTART:20190913T180000Z
DTEND:20190914T030000Z
X-MICROSOFT-CDO-ALLDAYEVENT:FALSE
SUMMARY:Golfers and Non-Golfers Help Ensure that Community’s Grieving Children Receive Critically Needed Services
DESCRIPTION:Golfers and non-golfers are invited to attend Swing Fore Hope Golf Classic on Friday\, September 13 at Twin Oaks Golf Course This tournament\, auction and dinner is hosted by The Elizabeth Hospice\, a nonprofit healthcare leader that provides comfort and counsel to children and adults facing the challenges associated with a life-threatening illness\, and restores hope to grieving children and adults who are feeling lost and alone. Funds raised at this special event benefit the organization's comprehensive Children's Bereavement Program\, the only one of its kind in San Diego County and Southwest Riverside County.\n\n \n\nThe Swing for Hope Golf Classic\, with DAV (Disabled American Veterans) as Premier Sponsor and Marsh & McLennan as Platinum Sponsor\, has a Shotgun Start at 1 pm. In addition to 18 holes on a championship golf course\, tournament participants will enjoy a delicious lunch hosted by Harrah's Resort Southern California and an on-course game competition.\n\n \n\nThe cocktail reception begins at 6 pm\, followed by a delicious dinner\, live auction and awards. Non-golfers are encouraged to join the fun. During the live auction\, attendees will have the opportunity to bid on must-have items including luxury vacation packages. Even non-attendees can try their luck at winning two round-trip tickets on Southwest Airlines by purchasing raffle tickets.\n\n \n\nProceeds from Swing Fore Hope Golf Classic make it possible for The Elizabeth Hospice to offer children's bereavement services free-of-charge to everyone\, including families who do not have an affiliation with The Elizabeth Hospice. These services include: in-school grief support groups in 20 school districts\, peer support groups in our Children's Bereavement Centers in Escondido and Mission Valley\, Camp Spero\, a summer bereavement camp\, and grief education and support for school professionals.\n\n \n\nRegistration for Swing Fore Hope Golf Classic (tournament and/or dinner) is now open at www.elizabethhospice.org/golf.\n\n \n\nFor more information and sponsorship opportunities\, email golf@ehospice.org or call Tylie Daniels at 760-796-3708.
X-ALT-DESC;FMTTYPE=text/html:Golfers and non-golfers are invited to attend <strong>Swing Fore Hope Golf Classic </strong>on Friday\, September 13 at Twin Oaks Golf Course This tournament\, auction and dinner is hosted by The Elizabeth Hospice\, a nonprofit healthcare leader that provides comfort and counsel to children and adults facing the challenges associated with a life-threatening illness\, and restores hope to grieving children and adults who are feeling lost and alone. Funds raised at this special event benefit the organization&rsquo\;s comprehensive Children&rsquo\;s Bereavement Program\, the only one of its kind in San Diego County and Southwest Riverside County.<br />\n&nbsp\;<br />\nThe <strong>Swing for Hope Golf Classic\, </strong>with DAV (Disabled American Veterans) as Premier Sponsor and Marsh &amp\; McLennan as Platinum Sponsor\, has a Shotgun Start at 1 pm. In addition to 18 holes on a championship golf course\, tournament participants will enjoy a delicious lunch hosted by Harrah&rsquo\;s Resort Southern California and an on-course game competition.<br />\n&nbsp\;<br />\nThe cocktail reception begins at 6 pm\, followed by a delicious dinner\, live auction and awards. Non-golfers are encouraged to join the fun. During the live auction\, attendees will have the opportunity to bid on must-have items including luxury vacation packages. Even non-attendees can try their luck at winning two round-trip tickets on Southwest Airlines by purchasing raffle tickets.<br />\n&nbsp\;<br />\nProceeds from <strong>Swing Fore Hope Golf Classic</strong> make it possible for The Elizabeth Hospice to offer children&rsquo\;s bereavement services <u>free-of-charge</u> to everyone\, including families who do not have an affiliation with The Elizabeth Hospice. These services include: in-school grief support groups in 20 school districts\, peer support groups in our Children&rsquo\;s Bereavement Centers in Escondido and Mission Valley\, Camp Spero\, a summer bereavement camp\, and grief education and support for school professionals.<br />\n&nbsp\;<br />\n<u>Registration for <strong>Swing Fore Hope Golf Classic</strong> (tournament and/or dinner) is now open</u> at <a href="http://www.elizabethhospice.org/golf">www.elizabethhospice.org/golf</a>.<br />\n&nbsp\;<br />\nFor more information and sponsorship opportunities\, email <a href="mailto:golf@ehospice.org">golf@ehospice.org</a> or call Tylie Daniels at 760-796-3708.<br />\n&nbsp\;
LOCATION:Twin Oaks Golf Course located at 1425 N Twin Oaks Valley Rd\, San Marcos\, CA 92069
UID:e.784.22870
SEQUENCE:3
DTSTAMP:20260421T113537Z
URL:https://chamber.sdbusinesschamber.com/events/details/golfers-and-non-golfers-help-ensure-that-community-s-grieving-children-receive-critically-needed-services-22870
END:VEVENT

END:VCALENDAR
