BEGIN:VCALENDAR
VERSION:2.0
PRODID:-//ChamberMaster//Event Calendar 2.0//EN
METHOD:PUBLISH
X-PUBLISHED-TTL:P3D
REFRESH-INTERVAL:P3D
CALSCALE:GREGORIAN
BEGIN:VEVENT
DTSTART:20100920T233000Z
DTEND:20100921T020000Z
X-MICROSOFT-CDO-ALLDAYEVENT:FALSE
SUMMARY:Golf and the Game of Business
DESCRIPTION:A golf networking event which includes: 9 holes of golf\, a cart and a drink ticket.
X-ALT-DESC;FMTTYPE=text/html:<DIV>A golf networking event which includes: 9 holes of golf\, a cart and a drink ticket.</DIV>
LOCATION:Carmel Mountain Ranch Country Club14050 Carmel Ridge Rd San Diego\, CA 92128-4307
UID:e.784.1770
SEQUENCE:3
DTSTAMP:20260423T195751Z
URL:https://chamber.sdbusinesschamber.com/events/details/golf-and-the-game-of-business-09-20-2010-1770
END:VEVENT

END:VCALENDAR
