BEGIN:VCALENDAR
VERSION:2.0
PRODID:-//ChamberMaster//Event Calendar 2.0//EN
METHOD:PUBLISH
X-PUBLISHED-TTL:P3D
REFRESH-INTERVAL:P3D
CALSCALE:GREGORIAN
BEGIN:VEVENT
DTSTART:20110818T230000Z
DTEND:20110819T030000Z
X-MICROSOFT-CDO-ALLDAYEVENT:FALSE
SUMMARY:Golf and the Game of Business
DESCRIPTION:A golf networking event which includes: 9 holes of golf\, a cart\, appetizers and a drink ticket.\n\n	\n\n	Please report at 4:00 pm to the starter. First tee off will be at 4:16 pm.\n\n	\n\n	After golf there will be door prizes at the Veranda and networking.
X-ALT-DESC;FMTTYPE=text/html:<div>\n	A golf networking event which includes: 9 holes of golf\, a cart\, appetizers and a drink ticket.<br />\n	<br />\n	Please report at 4:00 pm to the starter. First tee off will be at 4:16 pm.<br />\n	<br />\n	After golf there will be door prizes at the Veranda and networking.</div>\n
LOCATION:Rancho Bernardo Inn17550 Bernardo Oaks DrSan Diego\, CA 92128-2112
UID:e.784.2320
SEQUENCE:3
DTSTAMP:20260423T042448Z
URL:https://chamber.sdbusinesschamber.com/events/details/golf-and-the-game-of-business-08-18-2011-2320
END:VEVENT

END:VCALENDAR
