BEGIN:VCALENDAR
VERSION:2.0
PRODID:-//ChamberMaster//Event Calendar 2.0//EN
METHOD:PUBLISH
X-PUBLISHED-TTL:P3D
REFRESH-INTERVAL:P3D
CALSCALE:GREGORIAN
BEGIN:VEVENT
DTSTART:20100712T233000Z
DTEND:20100713T020000Z
X-MICROSOFT-CDO-ALLDAYEVENT:FALSE
SUMMARY:Golf and the Game of Business
DESCRIPTION:A golf networking event which includes: 9 holes of golf\, a cart and a drink ticket.
X-ALT-DESC;FMTTYPE=text/html:<DIV>A golf networking event which includes: 9 holes of golf\, a cart and a drink ticket.</DIV>
LOCATION:Rancho Bernardo Inn17550 Bernardo Oaks DrSan Diego\, CA 92128-2112
UID:e.784.992
SEQUENCE:3
DTSTAMP:20260423T224952Z
URL:https://chamber.sdbusinesschamber.com/events/details/golf-and-the-game-of-business-07-12-2010-992
END:VEVENT

END:VCALENDAR
