BEGIN:VCALENDAR
VERSION:2.0
PRODID:-//ChamberMaster//Event Calendar 2.0//EN
METHOD:PUBLISH
X-PUBLISHED-TTL:P3D
REFRESH-INTERVAL:P3D
CALSCALE:GREGORIAN
BEGIN:VEVENT
DTSTART:20100607T070000Z
DTEND:20100607T070000Z
X-MICROSOFT-CDO-ALLDAYEVENT:FALSE
SUMMARY:Golf and the Game of Business
DESCRIPTION:A golf networking event which includes: 9 holes of golf\, a cart and a drink ticket.
X-ALT-DESC;FMTTYPE=text/html:<DIV>A golf networking event which includes: 9 holes of golf\, a cart and a drink ticket.</DIV>
LOCATION:The Country Club of Rancho Bernardo
UID:e.784.991
SEQUENCE:3
DTSTAMP:20260424T001650Z
URL:https://chamber.sdbusinesschamber.com/events/details/golf-and-the-game-of-business-06-07-2010-991
END:VEVENT

END:VCALENDAR
