BEGIN:VCALENDAR
VERSION:2.0
PRODID:-//ChamberMaster//Event Calendar 2.0//EN
METHOD:PUBLISH
X-PUBLISHED-TTL:P3D
REFRESH-INTERVAL:P3D
CALSCALE:GREGORIAN
BEGIN:VEVENT
DTSTART:20110601T230000Z
DTEND:20110602T010000Z
X-MICROSOFT-CDO-ALLDAYEVENT:FALSE
SUMMARY:Golf and the Game of Business
DESCRIPTION:A golf networking event which includes: 9 holes of golf\, a cart and a drink ticket.
X-ALT-DESC;FMTTYPE=text/html:<DIV>A golf networking event which includes: 9 holes of golf\, a cart and a drink ticket.</DIV>
LOCATION:Maderas Golf Club 11750 Old Coach Road Poway\, CA 92064
UID:e.784.2296
SEQUENCE:3
DTSTAMP:20260423T070514Z
URL:https://chamber.sdbusinesschamber.com/events/details/golf-and-the-game-of-business-06-01-2011-2296
END:VEVENT

END:VCALENDAR
