BEGIN:VCALENDAR
VERSION:2.0
PRODID:-//ChamberMaster//Event Calendar 2.0//EN
METHOD:PUBLISH
X-PUBLISHED-TTL:P3D
REFRESH-INTERVAL:P3D
CALSCALE:GREGORIAN
BEGIN:VEVENT
DTSTART:20131208T040000Z
DTEND:20131208T060000Z
X-MICROSOFT-CDO-ALLDAYEVENT:FALSE
SUMMARY:Go Tell It On the Mountain: The Blind Boys of Alabama Christmas Show
DESCRIPTION:Normal\n  0\n  \n  \n  false\n  false\n  false\n  \n   \n   \n   \n   \n   \n  \n  MicrosoftInternetExplorer4\n \n\n\n	For foot-stomping\, roof-raising gospel music\, there is simply no substitute for the Blind Boys of Alabama.  Recognized worldwide as living legends of the genre\, the Blind Boys have been awarded Lifetime Achievement Awards by both The Grammys and The National Endowment for the Arts.  They are Gospel Music Hall of Fame inductees who have performed for two presidents   and they show no signs of slowing down.\n\n	Longevity and major awards aside\, The Blind Boys have earned praise for their remarkable interpretations of everything from traditional gospel favorites to contemporary spiritual material by acclaimed songwriters such as Curtis Mayfield\, Ben Harper\, Eric Clapton\, Prince and Tom Waits. Millions have watched them on The Tonight Show\, Late Night with David Letterman\, the Grammy  Awards\, 60 Minutes\, and their own PBS holiday special.  \n\n	Now\, the Poway Center is honored to welcome the Blind Boys in this special holiday program.\n\n \n \n\n\nst1\\:*{behavior:url(#ieooui) }\n\n\n\n /* Style Definitions */\n table.MsoNormalTable\n	{mso-style-name:"Table Normal"\;\n	mso-tstyle-rowband-size:0\;\n	mso-tstyle-colband-size:0\;\n	mso-style-noshow:yes\;\n	mso-style-parent:""\;\n	mso-padding-alt:0in 5.4pt 0in 5.4pt\;\n	mso-para-margin:0in\;\n	mso-para-margin-bottom:.0001pt\;\n	mso-pagination:widow-orphan\;\n	font-size:10.0pt\;\n	font-family:"Times New Roman"\;\n	mso-ansi-language:#0400\;\n	mso-fareast-language:#0400\;\n	mso-bidi-language:#0400\;}
X-ALT-DESC;FMTTYPE=text/html:<!--[if gte mso 9]><xml>\n <w:WordDocument>\n  <w:View>Normal</w:View>\n  <w:Zoom>0</w:Zoom>\n  <w:PunctuationKerning/>\n  <w:ValidateAgainstSchemas/>\n  <w:SaveIfXMLInvalid>false</w:SaveIfXMLInvalid>\n  <w:IgnoreMixedContent>false</w:IgnoreMixedContent>\n  <w:AlwaysShowPlaceholderText>false</w:AlwaysShowPlaceholderText>\n  <w:Compatibility>\n   <w:BreakWrappedTables/>\n   <w:SnapToGridInCell/>\n   <w:WrapTextWithPunct/>\n   <w:UseAsianBreakRules/>\n   <w:DontGrowAutofit/>\n  </w:Compatibility>\n  <w:BrowserLevel>MicrosoftInternetExplorer4</w:BrowserLevel>\n </w:WordDocument>\n</xml><![endif]-->\n<p class="MsoNormal" style="mso-margin-top-alt:auto\;line-height:150%">\n	<span style="font-size:11.0pt\;line-height:150%\;font-family:Calibri">For foot-stomping\, roof-raising gospel music\, there is simply no substitute for the Blind Boys of Alabama.<span style="mso-spacerun:yes">&nbsp\; </span>Recognized worldwide as living legends of the genre\, the Blind Boys have been awarded Lifetime Achievement Awards by both The Grammys and The National Endowment for the Arts.<span style="mso-spacerun:yes">&nbsp\; </span>They are Gospel Music Hall of Fame inductees who have performed for two presidents &ndash\; and they show no signs of slowing down.</span></p>\n<p class="MsoNormal" style="mso-margin-top-alt:auto\;line-height:150%">\n	<span style="font-size:11.0pt\;line-height:150%\;font-family:Calibri">Longevity and major awards aside\, The Blind Boys have earned praise for their remarkable interpretations of everything from traditional gospel favorites to contemporary spiritual material by acclaimed songwriters such as Curtis Mayfield\, Ben Harper\, Eric Clapton\, Prince and Tom Waits. Millions have watched them on The Tonight Show\, Late Night with David Letterman\, the Grammy&reg\; Awards\, 60 Minutes\, and their own PBS holiday special.<span style="mso-spacerun:yes">&nbsp\; </span></span></p>\n<p class="MsoNormal" style="mso-margin-top-alt:auto\;line-height:150%">\n	<span style="font-size:11.0pt\;line-height:150%\;font-family:Calibri">Now\, the Poway Center is honored to welcome the Blind Boys in this special holiday program</span><span style="font-size:11.0pt\;line-height:150%\;font-family:Calibri\;mso-bidi-font-family:\nCalibri">.</span></p>\n<!--[if gte mso 9]><xml>\n <w:LatentStyles DefLockedState="false" LatentStyleCount="156">\n </w:LatentStyles>\n</xml><![endif]--><!--[if !mso]><object\n classid="clsid:38481807-CA0E-42D2-BF39-B33AF135CC4D" id=ieooui></object>\n<style>\nst1\\:*{behavior:url(#ieooui) }\n</style>\n<![endif]--><!--[if gte mso 10]>\n<style>\n /* Style Definitions */\n table.MsoNormalTable\n	{mso-style-name:"Table Normal"\;\n	mso-tstyle-rowband-size:0\;\n	mso-tstyle-colband-size:0\;\n	mso-style-noshow:yes\;\n	mso-style-parent:""\;\n	mso-padding-alt:0in 5.4pt 0in 5.4pt\;\n	mso-para-margin:0in\;\n	mso-para-margin-bottom:.0001pt\;\n	mso-pagination:widow-orphan\;\n	font-size:10.0pt\;\n	font-family:"Times New Roman"\;\n	mso-ansi-language:#0400\;\n	mso-fareast-language:#0400\;\n	mso-bidi-language:#0400\;}\n</style>\n<![endif]-->
LOCATION:Poway Center for the Performing Arts 15498 Espola Road Poway\, CA 92064
UID:e.784.2915
SEQUENCE:3
DTSTAMP:20260421T113813Z
URL:https://chamber.sdbusinesschamber.com/events/details/go-tell-it-on-the-mountain-the-blind-boys-of-alabama-christmas-show-12-07-2013-2915
END:VEVENT

END:VCALENDAR
