BEGIN:VCALENDAR
VERSION:2.0
PRODID:-//ChamberMaster//Event Calendar 2.0//EN
METHOD:PUBLISH
X-PUBLISHED-TTL:P3D
REFRESH-INTERVAL:P3D
CALSCALE:GREGORIAN
BEGIN:VEVENT
DTSTART:20120622T150000Z
DTEND:20120623T000000Z
X-MICROSOFT-CDO-ALLDAYEVENT:FALSE
SUMMARY:Getting Back To Business
DESCRIPTION:The United States Department of Health of Human Services invite you to attend...\n\n	\n\n	"Getting Back to Business"\n\n	How the affordable Care Health Act can help small businesses.\n\n	\n\n	Become informed about: The federal contracting process and\, opportunities for contracts with HHS\n\n	\n\n	Please RSVP by June 15\, 2012. Online Registration is available via:\n\n	www.hhs-back2business.com
X-ALT-DESC;FMTTYPE=text/html:<div style="text-align: center\;">\n	The United States Department of Health of Human Services invite you to attend...<br />\n	<br />\n	&quot\;Getting Back to Business&quot\;<br />\n	How the affordable Care Health Act can help small businesses.<br />\n	<br />\n	Become informed about: The federal contracting process and\, opportunities for contracts with HHS<br />\n	<br />\n	<strong>Please RSVP by June 15\, 2012. Online Registration is available via:<br />\n	www.hhs-back2business.com</strong></div>\n
LOCATION:Medical Education and Telemedicine Building 9500 Gilman Dr. La Jolla\, Ca 92093
UID:e.784.2651
SEQUENCE:3
DTSTAMP:20260422T140413Z
URL:https://chamber.sdbusinesschamber.com/events/details/getting-back-to-business-06-22-2012-2651
END:VEVENT

END:VCALENDAR
