BEGIN:VCALENDAR
VERSION:2.0
PRODID:-//ChamberMaster//Event Calendar 2.0//EN
METHOD:PUBLISH
X-PUBLISHED-TTL:P3D
REFRESH-INTERVAL:P3D
CALSCALE:GREGORIAN
BEGIN:VEVENT
DTSTART:20090506T070000Z
DTEND:20090506T070000Z
X-MICROSOFT-CDO-ALLDAYEVENT:FALSE
SUMMARY:Get Your Business MAXIMUM Exposure with a Broad Internet Pre
DESCRIPTION:Do you ever wonder how more people can find out about your business?Are you anxious about slow customer traffic?Are you tired of not getting a return on your investment from advertising youve tried in the past?Get your business MAXIMUM exposure with a broad internet presence and let 10News do the work for you!Get your business listed for FREE!10News ALIST is a FREE on-line city guide that gets an average of 80\,000 page views each month.It is housed\, promoted\, and run by 10NewsIt offers features to help take your business to the next level and drive customers to you.www.10news.com/alistJoin us Wednesday\, May 6th for a luncheon with 10News Account Executive Laressa Newman and Popcorn Press & Media Owner Janene Roberts \nto learn about the exciting opportunities ALIST brings!         ALISTs annual Best of voting competition         Tips about how to be voted #1 in your category         Video Marketing Effectiveness         Naturally generate a higher SEO         Build Lead Generation Emails         Broaden your Internet Presence When: Wednesday\, May 6thWhere: WineSellar & Brasserie\, 9550 Waples Street\, San Diego\, CA 92121Please RSVP to Janene Roberts at winegirl6@mac.com
X-ALT-DESC;FMTTYPE=text/html:<P class=section1 style="MARGIN: 0in 0in 0pt\; TEXT-ALIGN: center" align=center><FONT size=2>Do you ever wonder how more people can find out about your business?<SPAN style="COLOR: black"><?xml:namespace prefix = o ns = "urn:schemas-microsoft-com:office:office" /><o:p></o:p></SPAN></FONT></P><P class=section1 style="MARGIN: 0in 0in 0pt\; TEXT-ALIGN: center" align=center><FONT size=2>Are you anxious about slow customer traffic?<SPAN style="COLOR: black"><o:p></o:p></SPAN></FONT></P><P class=section1 style="MARGIN: 0in 0in 0pt\; TEXT-ALIGN: center" align=center><FONT size=2>Are you tired of not getting a return on your investment from advertising youve tried in the past?<SPAN style="COLOR: black"><o:p></o:p></SPAN></FONT></P><P class=section1 style="MARGIN: 0in 0in 0pt\; TEXT-ALIGN: center" align=center><FONT size=2>Get your business MAXIMUM exposure with a broad internet presence and <B><U>let 10News do the work for you</U></B>!<SPAN style="COLOR: black"><o:p></o:p></SPAN></FONT></P><P class=section1 style="MARGIN: 0in 0in 0pt\; TEXT-ALIGN: center" align=center><FONT size=2>Get your business listed for FREE!<SPAN style="COLOR: black"><o:p></o:p></SPAN></FONT></P><P class=section1 style="MARGIN: 0in 0in 0pt\; TEXT-INDENT: -0.25in" align=center><FONT size=2>10News ALIST is a FREE on-line city guide that gets an average of 80\,000 page views each month.<SPAN style="COLOR: black"><o:p></o:p></SPAN></FONT></P><P class=section1 style="MARGIN: 0in 0in 0pt\; TEXT-INDENT: -0.25in" align=center><FONT size=2>It is housed\, promoted\, and run by 10News<SPAN style="COLOR: black"><o:p></o:p></SPAN></FONT></P><P class=section1 style="MARGIN: 0in 0in 0pt\; TEXT-INDENT: -0.25in" align=center><FONT size=2>It offers features to help take your business to the next level and drive customers to you.<SPAN style="COLOR: black"><o:p></o:p></SPAN></FONT></P><P class=section1 style="MARGIN: auto 0in 0pt\; TEXT-ALIGN: center" align=center><SPAN style="COLOR: black"><A href="http://www.10news.com/alist"><FONT size=2>www.10news.com/alist</FONT></A><o:p></o:p></SPAN></P><P class=section1 style="MARGIN: 0in 0in 0pt\; TEXT-ALIGN: center" align=center><FONT size=2>Join us <B>Wednesday\, May 6<SUP>th </SUP>for a luncheon </B>with 10News Account Executive Laressa Newman and Popcorn Press &amp\; Media Owner Janene Roberts <BR>to learn about the exciting opportunities ALIST brings!<SPAN style="COLOR: black"><o:p></o:p></SPAN></FONT></P><P class=section1 style="MARGIN: 0in 0in 0pt 0.5in\; TEXT-INDENT: -0.25in\; TEXT-ALIGN: center\; mso-list: l0 level1 lfo1\; tab-stops: list .5in" align=center><FONT face=Arial><FONT size=2><SPAN style="FONT-SIZE: 10pt\; COLOR: black\; FONT-FAMILY: Symbol\; mso-fareast-font-family: Symbol\; mso-bidi-font-size: 12.0pt\; mso-bidi-font-family: Symbol"><SPAN style="mso-list: Ignore"><SPAN style="FONT: 7pt 'Times New Roman'">&nbsp\;&nbsp\;&nbsp\;&nbsp\;&nbsp\;&nbsp\;&nbsp\;&nbsp\; </SPAN></SPAN></SPAN>ALISTs annual Best of voting competition<SPAN style="COLOR: black\; mso-fareast-font-family: 'Times New Roman'"><o:p></o:p></SPAN></FONT></FONT></P><P class=section1 style="MARGIN: 0in 0in 0pt 0.5in\; TEXT-INDENT: -0.25in\; TEXT-ALIGN: center\; mso-list: l0 level1 lfo1\; tab-stops: list .5in" align=center><FONT face=Arial><FONT size=2><SPAN style="FONT-SIZE: 10pt\; COLOR: black\; FONT-FAMILY: Symbol\; mso-fareast-font-family: Symbol\; mso-bidi-font-size: 12.0pt\; mso-bidi-font-family: Symbol"><SPAN style="mso-list: Ignore"><SPAN style="FONT: 7pt 'Times New Roman'">&nbsp\;&nbsp\;&nbsp\;&nbsp\;&nbsp\;&nbsp\;&nbsp\;&nbsp\; </SPAN></SPAN></SPAN><SPAN style="FONT-SIZE: 11pt\; COLOR: black\; FONT-FAMILY: 'Georgia'\,'serif'\; mso-fareast-font-family: 'Times New Roman'">Tips about how to be voted #1 in your category</SPAN><SPAN style="COLOR: black\; mso-fareast-font-family: 'Times New Roman'"><o:p></o:p></SPAN></FONT></FONT></P><P class=section1 style="MARGIN: 0in 0in 0pt 0.5in\; TEXT-INDENT: -0.25in\; TEXT-ALIGN: center\; mso-list: l0 level1 lfo1\; tab-stops: list .5in" align=center><FONT face=Arial><FONT size=2><SPAN style="FONT-SIZE: 10pt\; COLOR: black\; FONT-FAMILY: Symbol\; mso-fareast-font-family: Symbol\; mso-bidi-font-size: 12.0pt\; mso-bidi-font-family: Symbol"><SPAN style="mso-list: Ignore"><SPAN style="FONT: 7pt 'Times New Roman'">&nbsp\;&nbsp\;&nbsp\;&nbsp\;&nbsp\;&nbsp\;&nbsp\;&nbsp\; </SPAN></SPAN></SPAN><SPAN style="FONT-SIZE: 11pt\; COLOR: black\; FONT-FAMILY: 'Georgia'\,'serif'\; mso-fareast-font-family: 'Times New Roman'">Video Marketing Effectiveness</SPAN><SPAN style="COLOR: black\; mso-fareast-font-family: 'Times New Roman'"><o:p></o:p></SPAN></FONT></FONT></P><P class=section1 style="MARGIN: 0in 0in 0pt 0.5in\; TEXT-INDENT: -0.25in\; TEXT-ALIGN: center\; mso-list: l0 level1 lfo1\; tab-stops: list .5in" align=center><FONT face=Arial><FONT size=2><SPAN style="FONT-SIZE: 10pt\; COLOR: black\; FONT-FAMILY: Symbol\; mso-fareast-font-family: Symbol\; mso-bidi-font-size: 12.0pt\; mso-bidi-font-family: Symbol"><SPAN style="mso-list: Ignore"><SPAN style="FONT: 7pt 'Times New Roman'">&nbsp\;&nbsp\;&nbsp\;&nbsp\;&nbsp\;&nbsp\;&nbsp\;&nbsp\; </SPAN></SPAN></SPAN><SPAN style="FONT-SIZE: 11pt\; COLOR: black\; FONT-FAMILY: 'Georgia'\,'serif'\; mso-fareast-font-family: 'Times New Roman'">Naturally generate a higher SEO</SPAN><SPAN style="COLOR: black\; mso-fareast-font-family: 'Times New Roman'"><o:p></o:p></SPAN></FONT></FONT></P><P class=section1 style="MARGIN: 0in 0in 0pt 0.5in\; TEXT-INDENT: -0.25in\; TEXT-ALIGN: center\; mso-list: l0 level1 lfo1\; tab-stops: list .5in" align=center><FONT face=Arial><FONT size=2><SPAN style="FONT-SIZE: 10pt\; COLOR: black\; FONT-FAMILY: Symbol\; mso-fareast-font-family: Symbol\; mso-bidi-font-size: 12.0pt\; mso-bidi-font-family: Symbol"><SPAN style="mso-list: Ignore"><SPAN style="FONT: 7pt 'Times New Roman'">&nbsp\;&nbsp\;&nbsp\;&nbsp\;&nbsp\;&nbsp\;&nbsp\;&nbsp\; </SPAN></SPAN></SPAN><SPAN style="FONT-SIZE: 11pt\; COLOR: black\; FONT-FAMILY: 'Georgia'\,'serif'\; mso-fareast-font-family: 'Times New Roman'">Build Lead Generation Emails</SPAN><SPAN style="COLOR: black\; mso-fareast-font-family: 'Times New Roman'"><o:p></o:p></SPAN></FONT></FONT></P><P class=section1 style="MARGIN: 0in 0in 0pt 0.5in\; TEXT-INDENT: -0.25in\; TEXT-ALIGN: center\; mso-list: l0 level1 lfo1\; tab-stops: list .5in" align=center><FONT face=Arial><FONT size=2><SPAN style="FONT-SIZE: 10pt\; COLOR: black\; FONT-FAMILY: Symbol\; mso-fareast-font-family: Symbol\; mso-bidi-font-size: 12.0pt\; mso-bidi-font-family: Symbol"><SPAN style="mso-list: Ignore"><SPAN style="FONT: 7pt 'Times New Roman'">&nbsp\;&nbsp\;&nbsp\;&nbsp\;&nbsp\;&nbsp\;&nbsp\;&nbsp\; </SPAN></SPAN></SPAN><SPAN style="FONT-SIZE: 11pt\; COLOR: black\; FONT-FAMILY: 'Georgia'\,'serif'\; mso-fareast-font-family: 'Times New Roman'">Broaden your Internet Presence</SPAN><SPAN style="COLOR: black\; mso-fareast-font-family: 'Times New Roman'"><o:p></o:p></SPAN></FONT></FONT></P><P class=section1 style="MARGIN: 0in 0in 0pt 0.5in\; TEXT-INDENT: -0.25in\; TEXT-ALIGN: center\; mso-list: l1 level1 lfo2\; tab-stops: list .5in" align=center><SPAN style="COLOR: black"><o:p><FONT size=2>&nbsp\;</FONT></o:p></SPAN></P><P class=section1 style="MARGIN: 0in 0in 0pt\; TEXT-ALIGN: center" align=center><FONT size=2>When: Wednesday\, May 6<SUP>th</SUP><SPAN style="COLOR: black"><o:p></o:p></SPAN></FONT></P><P class=section1 style="MARGIN: 0in 0in 0pt\; TEXT-ALIGN: center" align=center><SPAN class=apple-style-span><SPAN ? New Times><FONT size=2>Where: WineSellar &amp\; Brasserie\, 9550 Waples Street\, San Diego\, CA 92121<SPAN style="COLOR: black"><o:p></o:p></SPAN></FONT></P><P class=section1 style="MARGIN: 0in 0in 0pt\; TEXT-ALIGN: center" align=center><SPAN class=apple-style-span><FONT size=2><SPAN ? New Times>Please RSVP to Janene Roberts at </SPAN><SPAN class=apple-style-span><SPAN style="FONT-SIZE: 10pt\; COLOR: black\; FONT-FAMILY: 'Tahoma'\,'sans-serif'\; mso-fareast-font-family: Calibri\; mso-fareast-theme-font: minor-latin\; mso-ansi-language: EN-US\; mso-fareast-language: EN-US\; mso-bidi-language: AR-SA"><A href="mailto:janene@popcornpressmedia.com"><FONT face=Arial>winegirl6@mac.com</FONT></A></SPAN></SPAN></FONT></SPAN></P></SPAN></SPAN>
LOCATION:WineSellar & Brasserie
UID:e.784.866
SEQUENCE:3
DTSTAMP:20260424T181520Z
URL:https://chamber.sdbusinesschamber.com/events/details/get-your-business-maximum-exposure-with-a-broad-internet-pre-05-06-2009-866
END:VEVENT

END:VCALENDAR
