BEGIN:VCALENDAR
VERSION:2.0
PRODID:-//ChamberMaster//Event Calendar 2.0//EN
METHOD:PUBLISH
X-PUBLISHED-TTL:P3D
REFRESH-INTERVAL:P3D
CALSCALE:GREGORIAN
BEGIN:VEVENT
DTSTART:20210319T010000Z
DTEND:20210319T020000Z
X-MICROSOFT-CDO-ALLDAYEVENT:FALSE
SUMMARY:Gelson's Presents: An Online Tasting with Santa Margherita
DESCRIPTION:Join us for our next virtual tasting event with Santa Margherita!\n\nMust RSVP and pre-pay for cheese plate for further instructions and information.\n\n\n\ngelsons.com/santamargherita
X-ALT-DESC;FMTTYPE=text/html:<span style="color:black"><span style="font-family:calibri\,sans-serif"><span style="font-size:12.0pt">Join us for our next virtual tasting event with Santa Margherita!<br />\nMust RSVP and pre-pay for cheese plate for further instructions and information.<br />\n<br />\n<a href="https://www.gelsons.com/santamargherita"><strong><u>gelsons.com/santamargherita</u></strong></a></span></span></span>
LOCATION:
UID:e.784.27396
SEQUENCE:3
DTSTAMP:20260425T142552Z
URL:https://chamber.sdbusinesschamber.com/events/details/gelson-s-presents-an-online-tasting-with-santa-margherita-27396
END:VEVENT

END:VCALENDAR
