BEGIN:VCALENDAR
VERSION:2.0
PRODID:-//ChamberMaster//Event Calendar 2.0//EN
METHOD:PUBLISH
X-PUBLISHED-TTL:P3D
REFRESH-INTERVAL:P3D
CALSCALE:GREGORIAN
BEGIN:VEVENT
DTSTART:20100911T160000Z
DTEND:20100911T190000Z
X-MICROSOFT-CDO-ALLDAYEVENT:FALSE
SUMMARY:Freedom Walk 2010
DESCRIPTION:On this same day throughout the country citizens will gather to participate in Freedom Walks.  The purpose of the event is simply to establish a tradition to reflect on the lives lost on 9/11\, renew our commitment to freedom and the values of our country\, and to honor our veterans\, past and present.\n\nEvent Details:\n\nDate: September 11\, 2010\n\nTime: Registration - 7:30 am\n\n          Ceremony - 9:00 am\n\n          Walk - 10:00 am\n\nParticipation is free and t-shirts are available while supplies last.  Invite your friends and family.\n\nTo preregister for the event please visit our website.
X-ALT-DESC;FMTTYPE=text/html:On this same day throughout the country citizens will gather to participate in Freedom Walks.  The purpose of the event is simply to establish a tradition to reflect on the lives lost on 9/11\, renew our commitment to freedom and the values of our country\, and to honor our veterans\, past and present.\n<br>Event Details:\n<br>Date: September 11\, 2010\n<br>Time: Registration - 7:30 am\n<br>          Ceremony - 9:00 am\n<br>          Walk - 10:00 am\n<br>Participation is free and t-shirts are available while supplies last.  Invite your friends and family.\n<br>To preregister for the event please visit our website.	\n<br>
LOCATION:Balboa Park - Veteran's Memorial Garden 2115 Park Boulevard\, San Diego\, CA 92101
UID:e.784.1811
SEQUENCE:3
DTSTAMP:20260423T195403Z
URL:https://chamber.sdbusinesschamber.com/events/details/freedom-walk-2010-09-11-2010-1811
END:VEVENT

END:VCALENDAR
