BEGIN:VCALENDAR
VERSION:2.0
PRODID:-//ChamberMaster//Event Calendar 2.0//EN
METHOD:PUBLISH
X-PUBLISHED-TTL:P3D
REFRESH-INTERVAL:P3D
CALSCALE:GREGORIAN
BEGIN:VEVENT
DTSTART:20101112T153000Z
DTEND:20101112T163000Z
X-MICROSOFT-CDO-ALLDAYEVENT:FALSE
SUMMARY:FREE Workshop - Cultive Professional Image & Brand
DESCRIPTION:FACTS\n\n\n\nTo succeed in corporate world\, 85% depends on your soft skill and only 15% depends on your technical skill.\n\n\n\nYou are invited to a workshop where you will learn:\n\n- Identify the key focus areas of one?s professional image\n\n- Follow the four effortless steps to dressing professionally\n\n- Master the art of high-impact body language\n\n- Make your first impression the best impression\n\n\n\n\n@font-face {\n  font-family: "Arial"\;\n}@font-face {\n  font-family: "SimSun"\;\n}p.MsoNormal\, li.MsoNormal\, div.MsoNormal { margin: 0in 0in 0.0001pt\; font-size: 12pt\; font-family: "Times New Roman"\; }a:link\, span.MsoHyperlink { color: blue\; text-decoration: underline\; }a:visited\, span.MsoHyperlinkFollowed { color: purple\; text-decoration: underline\; }div.Section1 { page: Section1\; }\n\n@font-face {\n  font-family: "Arial"\;\n}@font-face {\n  font-family: "SimSun"\;\n}p.MsoNormal\, li.MsoNormal\, div.MsoNormal { margin: 0in 0in 0.0001pt\; font-size: 12pt\; font-family: "Times New Roman"\; }a:link\, span.MsoHyperlink { color: blue\; text-decoration: underline\; }a:visited\, span.MsoHyperlinkFollowed { color: purple\; text-decoration: underline\; }div.Section1 { page: Section1\; }\n\n	Presenter: Yan Gao\, One of the 380 certified image consultants recognized worldwide by AICI\, Professional Speaker\, Author\, Corporate and Private Consultant\, Trainer and Coach\, Yan has shared her energy\, humor and savvy with Fortune 500 Companies\, Associations\, Harvard University and major Chinese corporations on: Doing Business with Chinese Fit\, Glow\, Succeed\, Professional Image and Branding\, Body Language\, Selling\, Interviewing\, Speech Delivery\, First Impressions\, Conflict Management\, Etiquette\, Civility and more. Yan is the President of YIGimage Group\, www.yigimage.com.
X-ALT-DESC;FMTTYPE=text/html:<br />\nFACTS<br />\n<br />\nTo succeed in corporate world\, 85% depends on your soft skill and only 15% depends on your technical skill.<br />\n<br />\nYou are invited to a workshop where you will learn:<br />\n- Identify the key focus areas of one?s professional image<br />\n- Follow the four effortless steps to dressing professionally<br />\n- Master the art of high-impact body language<br />\n- Make your first impression the best impression<br />\n<br />\n<style type="text/css">\n@font-face {\n  font-family: "Arial"\;\n}@font-face {\n  font-family: "SimSun"\;\n}p.MsoNormal\, li.MsoNormal\, div.MsoNormal { margin: 0in 0in 0.0001pt\; font-size: 12pt\; font-family: "Times New Roman"\; }a:link\, span.MsoHyperlink { color: blue\; text-decoration: underline\; }a:visited\, span.MsoHyperlinkFollowed { color: purple\; text-decoration: underline\; }div.Section1 { page: Section1\; }</style>\n<style type="text/css">\n@font-face {\n  font-family: "Arial"\;\n}@font-face {\n  font-family: "SimSun"\;\n}p.MsoNormal\, li.MsoNormal\, div.MsoNormal { margin: 0in 0in 0.0001pt\; font-size: 12pt\; font-family: "Times New Roman"\; }a:link\, span.MsoHyperlink { color: blue\; text-decoration: underline\; }a:visited\, span.MsoHyperlinkFollowed { color: purple\; text-decoration: underline\; }div.Section1 { page: Section1\; }</style>\n<p class="MsoNormal" style="">\n	<b><span lang="EN" style="font-size: 10pt\; font-family: Arial\;">Presenter: </span></b><b><span lang="EN" style="font-size: 10pt\; font-family: Arial\;">Yan Gao</span></b><span lang="EN" style="font-size: 10pt\; font-family: Arial\;">\, </span><span lang="EN" style="font-size: 10pt\; font-family: Arial\;">One of the 380 certified image consultants recognized worldwide by AICI\, Professional Speaker\, Author\, Corporate and Private Consultant\, Trainer and Coach\, Yan has shared her energy\, humor and savvy with Fortune 500 Companies\, Associations\, Harvard University and major Chinese corporations on: Doing Business with Chinese&mdash\;Fit\, Glow\, Succeed\, Professional Image and Branding\, Body Language\, Selling\, Interviewing\, Speech Delivery\, First Impressions\, Conflict Management\, Etiquette\, Civility and more. Yan is the President of YIGimage Group\,<a href="http://www.yigimage.com/"> www.yigimage.com</a>. </span></p>\n<p class="MsoNormal" style="">\n	<span lang="EN" style="font-size: 10pt\; font-family: Arial\;">&nbsp\;</span></p>\n<p class="MsoNormal" style="">\n	<span lang="EN" style="font-size: 8pt\; font-family: Arial\;">&nbsp\;</span></p>\n
LOCATION:MedImpact 10181 Scripps Gateway Court\, San Diego\, CA 92131
UID:e.784.2086
SEQUENCE:3
DTSTAMP:20260423T164727Z
URL:https://chamber.sdbusinesschamber.com/events/details/free-workshop-cultive-professional-image-brand-11-12-2010-2086
END:VEVENT

END:VCALENDAR
