BEGIN:VCALENDAR
VERSION:2.0
PRODID:-//ChamberMaster//Event Calendar 2.0//EN
METHOD:PUBLISH
X-PUBLISHED-TTL:P3D
REFRESH-INTERVAL:P3D
CALSCALE:GREGORIAN
BEGIN:VEVENT
DTSTART:20110122T171500Z
DTEND:20110122T194500Z
X-MICROSOFT-CDO-ALLDAYEVENT:FALSE
SUMMARY:Free Workshop - Business Continuity Planning for Small Business Owners
DESCRIPTION:Do you have a Business Continuity or Disaster Recovery Plan ready to help your business quickly recover from an outage or incident?  (It might be a regional wildfire or earthquake\; but it could also be something like a power outage or electrical fire\, or water pipe break impacting a single building/suite.)\n\n\n\nOn Saturday morning\, January 22nd\, the San Diego Chapter of the Association of Contingency Planners (ACP) will be conducting a free Business Continuity/Disaster Recovery Workshop focused on small business operations.  The workshop will be open to anyone interested in creating a basic\, yet effective\, Business Continuity Plan to serve as your ?one-stop shopping? resource in response to an emergency.\n\n\n\nThe workshop will feature the "Open for Business® Toolkit" developed by the Institute for Business & Home Safety (IBHS).   \n\n\n\nBy the end of the workshop\, you?ll be familiar with the tools you need to quickly and easily begin preparing your business for the unexpected.  You?ll also learn about free or low cost planning resources that can be used to help protect employees and safeguard your business assets\, revenue and reputation.
X-ALT-DESC;FMTTYPE=text/html:Do you have a Business Continuity or Disaster Recovery Plan ready to help your business quickly recover from an outage or incident?  (It might be a regional wildfire or earthquake\; but it could also be something like a power outage or electrical fire\, or water pipe break impacting a single building/suite.)\n<br>\n<br>On Saturday morning\, January 22nd\, the San Diego Chapter of the Association of Contingency Planners (ACP) will be conducting a free Business Continuity/Disaster Recovery Workshop focused on small business operations.  The workshop will be open to anyone interested in creating a basic\, yet effective\, Business Continuity Plan to serve as your ?one-stop shopping? resource in response to an emergency.\n<br>\n<br>The workshop will feature the "Open for Business® Toolkit" developed by the Institute for Business &amp\; Home Safety (IBHS).   \n<br>\n<br>By the end of the workshop\, you?ll be familiar with the tools you need to quickly and easily begin preparing your business for the unexpected.  You?ll also learn about free or low cost planning resources that can be used to help protect employees and safeguard your business assets\, revenue and reputation.
LOCATION:Penasquitos Lutheran Church 14484 Penasquitos Drive San Diego\, CA 92129 (Corner of Cuca Street & Penasquitos Drive)
UID:e.784.2232
SEQUENCE:3
DTSTAMP:20260423T142502Z
URL:https://chamber.sdbusinesschamber.com/events/details/free-workshop-business-continuity-planning-for-small-business-owners-01-22-2011-2232
END:VEVENT

END:VCALENDAR
