BEGIN:VCALENDAR
VERSION:2.0
PRODID:-//ChamberMaster//Event Calendar 2.0//EN
METHOD:PUBLISH
X-PUBLISHED-TTL:P3D
REFRESH-INTERVAL:P3D
CALSCALE:GREGORIAN
BEGIN:VEVENT
DTSTART:20120802T003000Z
DTEND:20120802T023000Z
X-MICROSOFT-CDO-ALLDAYEVENT:FALSE
SUMMARY:Free Social Networking with Live Entertainment
DESCRIPTION:Join us this Wednesday for our first BOUNCE BACK Wednesday Summer Social the Hotel by Pappi's Bar and Grill.\n\nWe will provide live entertainment and Happy Hour specials on Food & Beverage for you while you mingle outside by the Golf and pool area.  \n\nNo Reservations Required. \n\nEmail Laura.Renner@Hilton.com with any questions.
X-ALT-DESC;FMTTYPE=text/html:Join us this Wednesday for our first BOUNCE BACK Wednesday Summer Social the Hotel by Pappi&#39\;s Bar and Grill.<br />\nWe will provide live entertainment and Happy Hour specials on Food &amp\; Beverage for you while you mingle outside by the Golf and pool area. &nbsp\;<br />\nNo Reservations Required.&nbsp\;<br />\nEmail Laura.Renner@Hilton.com with any questions.
LOCATION:14455 Penasquitos Dr. San Diego\, CA 92129
UID:e.784.2674
SEQUENCE:3
DTSTAMP:20260422T105656Z
URL:https://chamber.sdbusinesschamber.com/events/details/free-social-networking-with-live-entertainment-08-01-2012-2674
END:VEVENT

END:VCALENDAR
