BEGIN:VCALENDAR
VERSION:2.0
PRODID:-//ChamberMaster//Event Calendar 2.0//EN
METHOD:PUBLISH
X-PUBLISHED-TTL:P3D
REFRESH-INTERVAL:P3D
CALSCALE:GREGORIAN
BEGIN:VEVENT
DTSTART:20111021T020000Z
DTEND:20111021T033000Z
X-MICROSOFT-CDO-ALLDAYEVENT:FALSE
SUMMARY:FREE Halloween Fun at the Y
DESCRIPTION:Dust off your broomsticks and fly on over with your family for our annual Spook-tacular event at the Rancho Family YMCA. Bring your friends and neighbors! All ages welcome! Frightfully fun activities include:\n\n	* Sail on a Haunted Boat Ride\n\n	* Creep through the Gobstacle Course\n\n	* Beware of the Haunted Trail\n\n	* Play Ghostly Games\n\n	* Create Halloween Crafts\n\n	And don't forget to dress in your favorite costume!!
X-ALT-DESC;FMTTYPE=text/html:<p>\n	Dust off your broomsticks and fly on over with your family for our annual Spook-tacular event at the Rancho Family YMCA. Bring your friends and neighbors! All ages welcome! Frightfully fun activities include:</p>\n<p>\n	<strong>* Sail on a Haunted Boat Ride</strong><br />\n	<strong>* Creep through the Gobstacle Course</strong><br />\n	<strong>* Beware of the Haunted Trail</strong><br />\n	<strong>* Play Ghostly Games</strong><br />\n	<strong>* Create Halloween Crafts</strong></p>\n<p>\n	And don&#39\;t forget to <strong>dress in your favorite costume</strong>!!</p>\n
LOCATION:9410 Fairgrove Lane San Diego\, CA 92129
UID:e.784.2491
SEQUENCE:3
DTSTAMP:20260423T013037Z
URL:https://chamber.sdbusinesschamber.com/events/details/free-halloween-fun-at-the-y-10-20-2011-2491
END:VEVENT

END:VCALENDAR
