BEGIN:VCALENDAR
VERSION:2.0
PRODID:-//ChamberMaster//Event Calendar 2.0//EN
METHOD:PUBLISH
X-PUBLISHED-TTL:P3D
REFRESH-INTERVAL:P3D
CALSCALE:GREGORIAN
BEGIN:VEVENT
DTSTART:20101006T230000Z
DTEND:20101007T020000Z
X-MICROSOFT-CDO-ALLDAYEVENT:FALSE
SUMMARY:Free First Wednesdays - Mojalet Dance featuring Stick Together
DESCRIPTION:California Center for the Arts\, Escondido presents \nFree First Wednesdays - Mojalet Dance featuring Stick Together \n \nMojalet Dance Company is a contemporary dance troupe designed to increase awareness of dance as an art form\, and make it equally accessible to all members of society. Stick Together combines the talents of Mojalet Dance Company with Rhythm Talk\, a Swiss percussion band. Together the groups create an engaging evening of thought-provoking work charged with sensuality\, athleticism\, wit and whimsy. \nTickets: This event is FREE. \nTickets are available one hour prior to curtain on a first-come\, first-served basis.
X-ALT-DESC;FMTTYPE=text/html:<div>California Center for the Arts\, Escondido presents <br />Free First Wednesdays - Mojalet Dance featuring Stick Together <br /> <br />Mojalet Dance Company is a contemporary dance troupe designed to increase awareness of dance as an art form\, and make it equally accessible to all members of society. Stick Together combines the talents of Mojalet Dance Company with Rhythm Talk\, a Swiss percussion band. Together the groups create an engaging evening of thought-provoking work charged with sensuality\, athleticism\, wit and whimsy. <br />Tickets: This event is FREE. <br />Tickets are available one hour prior to curtain on a first-come\, first-served basis.</div>
LOCATION:California Center for the Arts\, Escondido
UID:e.784.1820
SEQUENCE:3
DTSTAMP:20260423T183306Z
URL:https://chamber.sdbusinesschamber.com/events/details/free-first-wednesdays-mojalet-dance-featuring-stick-together-10-06-2010-1820
END:VEVENT

END:VCALENDAR
