BEGIN:VCALENDAR
VERSION:2.0
PRODID:-//ChamberMaster//Event Calendar 2.0//EN
METHOD:PUBLISH
X-PUBLISHED-TTL:P3D
REFRESH-INTERVAL:P3D
CALSCALE:GREGORIAN
BEGIN:VEVENT
DTSTART:20110115T200000Z
DTEND:20110115T203000Z
X-MICROSOFT-CDO-ALLDAYEVENT:FALSE
SUMMARY:FREE - Doing Business with the Chinese Workshop at San Diego MultiCultural Festi
DESCRIPTION:FACT:\n\n90% of the companies that have attempted to do business with the Chinese have failed to succeed.\n\n\n\nYou are invited to this informative and highly interactive workshop\, audience (adults and kids) will learn Chinese body language skills through experience and practice.  This is no ordinary program.  You will walk out feeling like you've been given a new eyeglass prescription and a high-tech hearing device?suddenly you can communicate with Chinese with confidence.
X-ALT-DESC;FMTTYPE=text/html:FACT:\n<br>90% of the companies that have attempted to do business with the Chinese have failed to succeed.\n<br>\n<br>You are invited to this informative and highly interactive workshop\, audience (adults and kids) will learn Chinese body language skills through experience and practice.  This is no ordinary program.  You will walk out feeling like you've been given a new eyeglass prescription and a high-tech hearing device?suddenly you can communicate with Chinese with confidence. \n<br>\n<br>\n<br>\n<br>
LOCATION:Location: 13th San Diego MultiCultural Festival\, visit festival website for details Festival website: http://www.ccdc.com/meetings-and- events/special-events/multicultural-festival.html
UID:e.784.2231
SEQUENCE:3
DTSTAMP:20260423T142133Z
URL:https://chamber.sdbusinesschamber.com/events/details/free-doing-business-with-the-chinese-workshop-at-san-diego-multicultural-festi-01-15-2011-2231
END:VEVENT

END:VCALENDAR
