BEGIN:VCALENDAR
VERSION:2.0
PRODID:-//ChamberMaster//Event Calendar 2.0//EN
METHOD:PUBLISH
X-PUBLISHED-TTL:P3D
REFRESH-INTERVAL:P3D
CALSCALE:GREGORIAN
BEGIN:VEVENT
DTSTART:20110225T023000Z
DTEND:20110225T040000Z
X-MICROSOFT-CDO-ALLDAYEVENT:FALSE
SUMMARY:Free Cyber Crime Forum
DESCRIPTION:The San Diego North Student Chamber of Commerce presents a free Cyber Crime  Forum. Hear about the dangers of the wireless environment we live in and how deeply it can affect your life. Learn how to protect yourself from online threats from our panel of professionals.\n\n\n\nSpeakers Include:\n\nESET\n\nInternet Crimes Against Children (ICAC)\n\nVista Community Clinic\n\nCATCHTeam
X-ALT-DESC;FMTTYPE=text/html:The San Diego North Student Chamber of Commerce presents a free Cyber Crime&nbsp\; Forum. Hear about the dangers of the wireless environment we live in and how deeply it can affect your life. Learn how to protect yourself from online threats from our panel of professionals.<br />\n<br />\nSpeakers Include:<br />\nESET<br />\nInternet Crimes Against Children (ICAC)<br />\nVista Community Clinic<br />\nCATCHTeam
LOCATION:Del Norte High School Performing Arts Center 16601 Nighthawk Lane San Diego CA 92127
UID:e.784.2260
SEQUENCE:3
DTSTAMP:20260423T124018Z
URL:https://chamber.sdbusinesschamber.com/events/details/free-cyber-crime-forum-02-24-2011-2260
END:VEVENT

END:VCALENDAR
