BEGIN:VCALENDAR
VERSION:2.0
PRODID:-//ChamberMaster//Event Calendar 2.0//EN
METHOD:PUBLISH
X-PUBLISHED-TTL:P3D
REFRESH-INTERVAL:P3D
CALSCALE:GREGORIAN
BEGIN:VEVENT
DTSTART:20110416T170000Z
DTEND:20110416T200000Z
X-MICROSOFT-CDO-ALLDAYEVENT:FALSE
SUMMARY:Free Community Health Fair in Escondido
DESCRIPTION:Scripps Health Presents Living Well Through the Ages\n\n\n\nJoin us at Scripps Coastal Medical Center Escondido on Saturday\, April 16 from 10 am ? 1 pm for a free health fair. The event is designed to help you and your loved ones stay healthy through every stage of life.\n\n\n\nParticipants will get an opportunity to:\n\n- Meet Scripps Coastal physicians \n\n- Have their body fat tested \n\n- Be screened for high blood pressure \n\n- Fill out an assessment to help better understand their risk for diabetes and sleep apnea \n\n\n\nScripps Coastal physicians and a health educator will deliver the following presentations:\n\n10:15 am ? DASH ? A Matter of the Heart \n\n11:15 am ? Are You at Risk for Diabetes? \n\n12:15 pm ? Know Your Health Score \n\n\n\nAdmission is free. Healthy snacks and clinic tours will be available to attendees.
X-ALT-DESC;FMTTYPE=text/html:Scripps Health Presents Living Well Through the Ages\n<br>\n<br>Join us at Scripps Coastal Medical Center Escondido on Saturday\, April 16 from 10 am ? 1 pm for a free health fair. The event is designed to help you and your loved ones stay healthy through every stage of life.\n<br>\n<br>Participants will get an opportunity to:\n<br>- Meet Scripps Coastal physicians \n<br>- Have their body fat tested \n<br>- Be screened for high blood pressure \n<br>- Fill out an assessment to help better understand their risk for diabetes and sleep apnea \n<br>\n<br>Scripps Coastal physicians and a health educator will deliver the following presentations:\n<br>10:15 am ? DASH ? A Matter of the Heart \n<br>11:15 am ? Are You at Risk for Diabetes? \n<br>12:15 pm ? Know Your Health Score \n<br>\n<br>Admission is free. Healthy snacks and clinic tours will be available to attendees.
LOCATION:Scripps Coastal Medical Center Escondido 488 East Valley Parkway Escondido\, CA 92025
UID:e.784.2265
SEQUENCE:3
DTSTAMP:20260423T113914Z
URL:https://chamber.sdbusinesschamber.com/events/details/free-community-health-fair-in-escondido-04-16-2011-2265
END:VEVENT

END:VCALENDAR
