BEGIN:VCALENDAR
VERSION:2.0
PRODID:-//ChamberMaster//Event Calendar 2.0//EN
METHOD:PUBLISH
X-PUBLISHED-TTL:P3D
REFRESH-INTERVAL:P3D
CALSCALE:GREGORIAN
BEGIN:VEVENT
DTSTART:20120511T140000Z
DTEND:20120511T200000Z
X-MICROSOFT-CDO-ALLDAYEVENT:FALSE
SUMMARY:Fourth Annual North County Business Forum
DESCRIPTION:You're invited to the Palomar College Foundation's Fourth Annual North County Business Forum on Friday\, May 11\, 2012\, from 7 a.m. to 1 p.m. The title this year is "Winning the Game of Recovery." \n\n\n\nFor up-to-date information\, open the attached flyer.
X-ALT-DESC;FMTTYPE=text/html:You&rsquo\;re invited to the Palomar College Foundation&rsquo\;s <strong>Fourth Annual North County Business Forum </strong>on Friday\, May 11\, 2012\, from 7 a.m. to 1 p.m. The title this year is <em><strong>&ldquo\;Winning the Game of Recovery.&rdquo\; </strong></em><br />\n<br />\nFor up-to-date information\, open the attached flyer.
LOCATION:Palomar College San Marcos Campus
UID:e.784.2625
SEQUENCE:3
DTSTAMP:20260422T154530Z
URL:https://chamber.sdbusinesschamber.com/events/details/fourth-annual-north-county-business-forum-05-11-2012-2625
END:VEVENT

END:VCALENDAR
