BEGIN:VCALENDAR
VERSION:2.0
PRODID:-//ChamberMaster//Event Calendar 2.0//EN
METHOD:PUBLISH
X-PUBLISHED-TTL:P3D
REFRESH-INTERVAL:P3D
CALSCALE:GREGORIAN
BEGIN:VEVENT
DTSTART:20201104T190000Z
DTEND:20201201T020000Z
X-MICROSOFT-CDO-ALLDAYEVENT:FALSE
SUMMARY:Food Drive
DESCRIPTION:Food Drive with North San Diego Food Bank\n\nNovember 2\, 2020 - November 30\, 2020\n\n\n\nNutrition is an important part of the Brain Balance program. The Jacobs & Cushman San Diego Food Bank and our North County Food Bank chapter provide nutritious food to people in need\, advocate for the hungry\, and educate the public about hunger-related issues. We invite you to support our community in need by donating non-perishable items such as canned meats\, canned vegetables\, peanut butter\, pasta/rice\, oatmeal/cereal\, and more through the end of November. We cannot accept glass jars\, home canned\, or baked goods.\n\n\n\nDrop off your generous donations at our Center Mondays\, Wednesdays\, and Fridays 11:00am - 6:00pm.\n\n\n\nFor Virtual Donations\, visit https://www.fooddriveonline.org/sandiegofoodbank/BrainBalance\n\n\n\nHelp us reach our goal of $500!
X-ALT-DESC;FMTTYPE=text/html:<strong><span style="font-family:arial\,helvetica\,sans-serif\; font-size:10.8px">Food Drive with North San Diego Food Bank</span></strong><br />\n<span style="font-family:arial\,helvetica\,sans-serif\; font-size:10.8px">November 2\, 2020 - November 30\, 2020</span><br />\n<br />\n<span style="font-family:arial\,helvetica\,sans-serif\; font-size:10.8px">Nutrition is an important part of the Brain Balance program. The Jacobs &amp\; Cushman San Diego Food Bank and our North County Food Bank chapter provide nutritious food to people in need\, advocate for the hungry\, and educate the public about hunger-related issues. We invite you to support our community in need by donating non-perishable items such as canned meats\, canned vegetables\, peanut butter\, pasta/rice\, oatmeal/cereal\, and more through the end of November. We cannot accept glass jars\, home canned\, or baked goods.<br />\n<br />\n<strong>Drop off your generous donations</strong> at our Center Mondays\, Wednesdays\, and Fridays 11:00am - 6:00pm.</span><br />\n<br />\n<span style="font-family:arial\,helvetica\,sans-serif\; font-size:10.8px"><strong>For Virtual Donations</strong>\, visit&nbsp\;</span><a href="https://www.fooddriveonline.org/sandiegofoodbank/index.php?s=BrainBalance">https://www.fooddriveonline.org/sandiegofoodbank/BrainBalance</a><br />\n<br />\n<span style="font-family:arial\,helvetica\,sans-serif\; font-size:10.8px">Help us reach our goal of $500!</span>
LOCATION:Drop-off donations: Brain Balance San Diego 10175 Rancho Carmel Dr.\, Suite 124 San Diego\, CA 92128 Virtual Donations: https://www.fooddriveonline.org/sandiegofoodbank/BrainBalance
UID:e.784.26554
SEQUENCE:3
DTSTAMP:20260425T182359Z
URL:https://chamber.sdbusinesschamber.com/events/details/food-drive-11-04-2020-26554
END:VEVENT

END:VCALENDAR
