BEGIN:VCALENDAR
VERSION:2.0
PRODID:-//ChamberMaster//Event Calendar 2.0//EN
METHOD:PUBLISH
X-PUBLISHED-TTL:P3D
REFRESH-INTERVAL:P3D
CALSCALE:GREGORIAN
BEGIN:VEVENT
DTSTART:20120803T230000Z
DTEND:20120804T030000Z
X-MICROSOFT-CDO-ALLDAYEVENT:FALSE
SUMMARY:First Fridays ARTwalk at Bernardo Winery
DESCRIPTION:Celebrate the arts after dark at the Bernardo Winery on the first Friday of every month throughout the Summer! From 4-8 pm stroll the courtyard\, enjoy local art\, music and performing arts. The tasting room\, village shops and Cafe Merlot will be open for the evening. Cassies crepes will be making delicious custom crepes and Super Q Food Truck will be on hand serving up some delicious BBQ! Free admission and parking. All ages welcome!\n\nFor more information please visit www.bernardowinery.com or call 858.487.1866
X-ALT-DESC;FMTTYPE=text/html:<span style="font-size: 14px"><span style="font-family: verdana">Celebrate the arts after dark at the Bernardo Winery on the first Friday of every month throughout the Summer! From 4-8 pm stroll the courtyard\, enjoy local art\, music and performing arts. The tasting room\, village shops and Cafe Merlot will be open for the evening. Cassies crepes will&nbsp\;be making delicious custom crepes and Super Q Food Truck will be on hand serving up some delicious BBQ! Free admission and parking. All ages welcome!<br />\nFor more information please visit <a href="http://www.bernardowinery.com">www.bernardowinery.com</a> or call 858.487.1866</span></span><br />\n
LOCATION:Bernardo Winery
UID:e.784.2672
SEQUENCE:3
DTSTAMP:20260422T105655Z
URL:https://chamber.sdbusinesschamber.com/events/details/first-fridays-artwalk-at-bernardo-winery-08-03-2012-2672
END:VEVENT

END:VCALENDAR
