BEGIN:VCALENDAR
VERSION:2.0
PRODID:-//ChamberMaster//Event Calendar 2.0//EN
METHOD:PUBLISH
X-PUBLISHED-TTL:P3D
REFRESH-INTERVAL:P3D
CALSCALE:GREGORIAN
BEGIN:VEVENT
DTSTART:20130905T010000Z
DTEND:20131031T033000Z
X-MICROSOFT-CDO-ALLDAYEVENT:FALSE
SUMMARY:Financial Peace University
DESCRIPTION:This life-changing class taught by Dave Ramsey and the FPU teaching team on video and coordinated by Denny Monroy at Penasquitos Lutheran Church in San Diego\, CA will help you achieve your financial goals by showing you how to eliminate debt\, save for the future\, and give like never before. You will be challenged and motivated to make a plan for your money and change your family tree forever.
X-ALT-DESC;FMTTYPE=text/html:This life-changing class taught by Dave Ramsey and the FPU teaching team on video and coordinated by Denny Monroy at Penasquitos Lutheran Church in San Diego\, CA will help you achieve your financial goals by showing you how to eliminate debt\, save for the future\, and give like never before. You will be challenged and motivated to make a plan for your money and change your family tree forever.
LOCATION:Penasquitos Lutheran Church 14484 Penasquitos Dr San Diego CA 92129
UID:e.784.2940
SEQUENCE:3
DTSTAMP:20260421T130027Z
URL:https://chamber.sdbusinesschamber.com/events/details/financial-peace-university-09-04-2013-2940
END:VEVENT

END:VCALENDAR
