BEGIN:VCALENDAR
VERSION:2.0
PRODID:-//ChamberMaster//Event Calendar 2.0//EN
METHOD:PUBLISH
X-PUBLISHED-TTL:P3D
REFRESH-INTERVAL:P3D
CALSCALE:GREGORIAN
BEGIN:VEVENT
DTSTART;VALUE=DATE:20131118
DTEND;VALUE=DATE:20131119
TRANSP:TRANSPARENT
X-MICROSOFT-CDO-ALLDAYEVENT:TRUE
SUMMARY:Fearless Presenter Workshop
DESCRIPTION:The Fearless Presenter Workshop is your opportunity to rapidly build your public speaking and presentation skills.  Using a combination of video-feedback and professional coaching\, this is an interactive\, intimate learning experience.   Simply stated\, you learn by doing\, coaching\, and re-doing.
X-ALT-DESC;FMTTYPE=text/html:The Fearless Presenter Workshop is your opportunity to rapidly build your public speaking and presentation skills. &nbsp\;Using a combination of video-feedback and professional coaching\, this is an interactive\, intimate learning experience. &nbsp\; Simply stated\, you learn by doing\, coaching\, and re-doing.&nbsp\;
LOCATION:SDNCC chamber board room
UID:e.784.2994
SEQUENCE:3
DTSTAMP:20260421T113051Z
URL:https://chamber.sdbusinesschamber.com/events/details/fearless-presenter-workshop-11-18-2013-2994
END:VEVENT

END:VCALENDAR
