BEGIN:VCALENDAR
VERSION:2.0
PRODID:-//ChamberMaster//Event Calendar 2.0//EN
METHOD:PUBLISH
X-PUBLISHED-TTL:P3D
REFRESH-INTERVAL:P3D
CALSCALE:GREGORIAN
BEGIN:VEVENT
DTSTART:20120808T160000Z
DTEND:20120808T233000Z
X-MICROSOFT-CDO-ALLDAYEVENT:FALSE
SUMMARY:FBI Academy
DESCRIPTION:Topics to include but not limited to:\n\n	o   Overview of the FBI - Past and Present\n\n	o   CSI with the FBI's Evidence Response Team\n\n	o   Public Corruption\n\n	o   Border Corruption\n\n	o   Cunningham Case\n\n	o   Escondido Bomb House Investigation\n\n	o   Counterterrorism/Counterintelligence Program\n\n\n	o   Arrest Techniques\n\n	o   Branches of FBI\n\n	   United States Secret Service\n\n	   Drug Enforcement Administration\n\n	   U.S. Marshals Service
X-ALT-DESC;FMTTYPE=text/html:&nbsp\;<span style="background-color: rgba(255\, 255\, 255\, 0.917969)\; font-family: arial\, sans-serif\; font-size: 13px\; ">Topics to include but not limited to:</span>\n<p style="font-family: arial\, sans-serif\; font-size: 13px\; background-color: rgba(255\, 255\, 255\, 0.917969)\; margin-left: 1in\; ">\n	<span style="font-family: 'Courier New'\; ">o<span style="font-family: 'Times New Roman'\; font-size: 7pt\; ">&nbsp\;&nbsp\;&nbsp\;</span></span><span style="font-size: 10pt\; ">Overview of the FBI - Past and Present</span></p>\n<p style="font-family: arial\, sans-serif\; font-size: 13px\; background-color: rgba(255\, 255\, 255\, 0.917969)\; margin-left: 1in\; ">\n	<span style="font-family: 'Courier New'\; ">o<span style="font-family: 'Times New Roman'\; font-size: 7pt\; ">&nbsp\;&nbsp\;&nbsp\;</span></span><span style="font-size: 10pt\; ">CSI with the FBI&#39\;s Evidence Response Team</span></p>\n<p style="font-family: arial\, sans-serif\; font-size: 13px\; background-color: rgba(255\, 255\, 255\, 0.917969)\; margin-left: 1in\; ">\n	<span style="font-family: 'Courier New'\; ">o<span style="font-family: 'Times New Roman'\; font-size: 7pt\; ">&nbsp\;&nbsp\;&nbsp\;</span></span><span style="font-size: 10pt\; ">Public Corruption</span></p>\n<p style="font-family: arial\, sans-serif\; font-size: 13px\; background-color: rgba(255\, 255\, 255\, 0.917969)\; margin-left: 1in\; ">\n	<span style="font-family: 'Courier New'\; ">o<span style="font-family: 'Times New Roman'\; font-size: 7pt\; ">&nbsp\;&nbsp\;&nbsp\;</span></span><span style="font-size: 10pt\; ">Border Corruption</span></p>\n<p style="font-family: arial\, sans-serif\; font-size: 13px\; background-color: rgba(255\, 255\, 255\, 0.917969)\; margin-left: 1in\; ">\n	<span style="font-family: 'Courier New'\; ">o<span style="font-family: 'Times New Roman'\; font-size: 7pt\; ">&nbsp\;&nbsp\;&nbsp\;</span></span><span style="font-size: 10pt\; ">Cunningham Case</span></p>\n<p style="font-family: arial\, sans-serif\; font-size: 13px\; background-color: rgba(255\, 255\, 255\, 0.917969)\; margin-left: 1in\; ">\n	<span style="font-family: 'Courier New'\; ">o<span style="font-family: 'Times New Roman'\; font-size: 7pt\; ">&nbsp\;&nbsp\;&nbsp\;</span></span><span style="font-size: 10pt\; ">Escondido Bomb House Investigation</span></p>\n<p style="font-family: arial\, sans-serif\; font-size: 13px\; background-color: rgba(255\, 255\, 255\, 0.917969)\; margin-left: 1in\; ">\n	<span style="font-family: 'Courier New'\; ">o<span style="font-family: 'Times New Roman'\; font-size: 7pt\; ">&nbsp\;&nbsp\;&nbsp\;</span></span><span style="font-size: 10pt\; ">Counterterrorism/<wbr>Counterintelligence Program</wbr></span></p>\n<wbr><wbr><wbr><wbr><wbr><wbr><wbr><wbr><wbr><wbr><wbr><wbr>\n<p style="font-family: arial\, sans-serif\; font-size: 13px\; background-color: rgba(255\, 255\, 255\, 0.917969)\; margin-left: 1in\; ">\n	<span style="font-family: 'Courier New'\; ">o<span style="font-family: 'Times New Roman'\; font-size: 7pt\; ">&nbsp\;&nbsp\;&nbsp\;</span></span><span style="font-size: 10pt\; ">Arrest Techniques</span></p>\n<p style="font-family: arial\, sans-serif\; font-size: 13px\; background-color: rgba(255\, 255\, 255\, 0.917969)\; margin-left: 1in\; ">\n	<span style="font-family: 'Courier New'\; ">o<span style="font-family: 'Times New Roman'\; font-size: 7pt\; ">&nbsp\;&nbsp\;&nbsp\;</span></span><span style="font-size: 10pt\; ">Branches of FBI</span></p>\n<p style="font-family: arial\, sans-serif\; font-size: 13px\; background-color: rgba(255\, 255\, 255\, 0.917969)\; margin-left: 1.5in\; ">\n	<span style="font-family: Wingdings\; ">&sect\;<span style="font-family: 'Times New Roman'\; font-size: 7pt\; ">&nbsp\;&nbsp\;</span></span><span style="font-size: 10pt\; ">United States Secret Service</span></p>\n<p style="font-family: arial\, sans-serif\; font-size: 13px\; background-color: rgba(255\, 255\, 255\, 0.917969)\; margin-left: 1.5in\; ">\n	<span style="font-family: Wingdings\; ">&sect\;<span style="font-family: 'Times New Roman'\; font-size: 7pt\; ">&nbsp\;&nbsp\;</span></span><span style="font-size: 10pt\; ">Drug Enforcement Administration</span></p>\n<p style="font-family: arial\, sans-serif\; font-size: 13px\; background-color: rgba(255\, 255\, 255\, 0.917969)\; margin-left: 1.5in\; ">\n	<span style="font-family: Wingdings\; ">&sect\;<span style="font-family: 'Times New Roman'\; font-size: 7pt\; ">&nbsp\;&nbsp\;</span></span><span style="font-size: 10pt\; ">U.S. Marshals Service</span></p>\n<wbr><wbr> &nbsp\; </wbr></wbr></wbr></wbr></wbr></wbr></wbr></wbr></wbr></wbr></wbr></wbr></wbr></wbr>
LOCATION:FBI Annex Building 9737 Aero Dr San Diego CA 92123
UID:e.784.2653
SEQUENCE:3
DTSTAMP:20260422T105326Z
URL:https://chamber.sdbusinesschamber.com/events/details/fbi-academy-08-08-2012-2653
END:VEVENT

END:VCALENDAR
