BEGIN:VCALENDAR
VERSION:2.0
PRODID:-//ChamberMaster//Event Calendar 2.0//EN
METHOD:PUBLISH
X-PUBLISHED-TTL:P3D
REFRESH-INTERVAL:P3D
CALSCALE:GREGORIAN
BEGIN:VEVENT
DTSTART:20120707T003000Z
DTEND:20120826T070000Z
X-MICROSOFT-CDO-ALLDAYEVENT:FALSE
SUMMARY:Family Cinema Under the Stars
DESCRIPTION:Family Cinema Under the Stars\n\nLive Bands   Pool Bar & Grill\n\nChildren Fun Activities   Picnic Baskets\n\nFridays and Saturdays\n\nJuly 6 - August 25\n\nSpace is limited. Call for details. Free admission.\n\n858-485-4170
X-ALT-DESC;FMTTYPE=text/html:Family Cinema Under the Stars<br />\nLive Bands &bull\; Pool Bar &amp\; Grill<br />\nChildren Fun Activities &bull\; Picnic Baskets<br />\nFridays and Saturdays<br />\nJuly 6 - August 25<br />\nSpace is limited. Call for details. Free admission.<br />\n858-485-4170&nbsp\;
LOCATION:14455 Penasquitos Dr. San Diego\, CA 92129
UID:e.784.2656
SEQUENCE:3
DTSTAMP:20260422T105957Z
URL:https://chamber.sdbusinesschamber.com/events/details/family-cinema-under-the-stars-07-06-2012-2656
END:VEVENT

END:VCALENDAR
